BEGIN:VCALENDAR
VERSION:2.0
PRODID:-//jEvents 2.0 for Joomla//EN
CALSCALE:GREGORIAN
METHOD:PUBLISH
BEGIN:VTIMEZONE
TZID:Europe/Berlin
BEGIN:STANDARD
DTSTART:20170203T100000
RDATE:20170326T030000
TZOFFSETFROM:+0200
TZOFFSETTO:+0100
TZNAME:Europe/Berlin CET
END:STANDARD
BEGIN:STANDARD
DTSTART:20171029T020000
RDATE:20180325T030000
TZOFFSETFROM:+0200
TZOFFSETTO:+0100
TZNAME:Europe/Berlin CET
END:STANDARD
BEGIN:STANDARD
DTSTART:20181028T020000
RDATE:20190331T030000
TZOFFSETFROM:+0200
TZOFFSETTO:+0100
TZNAME:Europe/Berlin CET
END:STANDARD
BEGIN:STANDARD
DTSTART:20191027T020000
RDATE:20200329T030000
TZOFFSETFROM:+0200
TZOFFSETTO:+0100
TZNAME:Europe/Berlin CET
END:STANDARD
BEGIN:STANDARD
DTSTART:20201025T020000
RDATE:20210328T030000
TZOFFSETFROM:+0200
TZOFFSETTO:+0100
TZNAME:Europe/Berlin CET
END:STANDARD
BEGIN:STANDARD
DTSTART:20211031T020000
RDATE:20220327T030000
TZOFFSETFROM:+0200
TZOFFSETTO:+0100
TZNAME:Europe/Berlin CET
END:STANDARD
BEGIN:STANDARD
DTSTART:20221030T020000
RDATE:20230326T030000
TZOFFSETFROM:+0200
TZOFFSETTO:+0100
TZNAME:Europe/Berlin CET
END:STANDARD
BEGIN:STANDARD
DTSTART:20231029T020000
RDATE:20240331T030000
TZOFFSETFROM:+0200
TZOFFSETTO:+0100
TZNAME:Europe/Berlin CET
END:STANDARD
BEGIN:STANDARD
DTSTART:20241027T020000
RDATE:20250330T030000
TZOFFSETFROM:+0200
TZOFFSETTO:+0100
TZNAME:Europe/Berlin CET
END:STANDARD
BEGIN:STANDARD
DTSTART:20251026T020000
RDATE:20260329T030000
TZOFFSETFROM:+0200
TZOFFSETTO:+0100
TZNAME:Europe/Berlin CET
END:STANDARD
BEGIN:STANDARD
DTSTART:20261025T020000
RDATE:20270328T030000
TZOFFSETFROM:+0200
TZOFFSETTO:+0100
TZNAME:Europe/Berlin CET
END:STANDARD
BEGIN:STANDARD
DTSTART:20271031T020000
RDATE:20280326T030000
TZOFFSETFROM:+0200
TZOFFSETTO:+0100
TZNAME:Europe/Berlin CET
END:STANDARD
BEGIN:STANDARD
DTSTART:20281029T020000
RDATE:20290325T030000
TZOFFSETFROM:+0200
TZOFFSETTO:+0100
TZNAME:Europe/Berlin CET
END:STANDARD
BEGIN:STANDARD
DTSTART:20291028T020000
RDATE:20300331T030000
TZOFFSETFROM:+0200
TZOFFSETTO:+0100
TZNAME:Europe/Berlin CET
END:STANDARD
BEGIN:STANDARD
DTSTART:20301027T020000
RDATE:20310330T030000
TZOFFSETFROM:+0200
TZOFFSETTO:+0100
TZNAME:Europe/Berlin CET
END:STANDARD
BEGIN:STANDARD
DTSTART:20311026T020000
RDATE:20320328T030000
TZOFFSETFROM:+0200
TZOFFSETTO:+0100
TZNAME:Europe/Berlin CET
END:STANDARD
BEGIN:DAYLIGHT
DTSTART:20170326T030000
RDATE:20171029T020000
TZOFFSETFROM:+0100
TZOFFSETTO:+0200
TZNAME:Europe/Berlin CEST
END:DAYLIGHT
BEGIN:DAYLIGHT
DTSTART:20180325T030000
RDATE:20181028T020000
TZOFFSETFROM:+0100
TZOFFSETTO:+0200
TZNAME:Europe/Berlin CEST
END:DAYLIGHT
BEGIN:DAYLIGHT
DTSTART:20190331T030000
RDATE:20191027T020000
TZOFFSETFROM:+0100
TZOFFSETTO:+0200
TZNAME:Europe/Berlin CEST
END:DAYLIGHT
BEGIN:DAYLIGHT
DTSTART:20200329T030000
RDATE:20201025T020000
TZOFFSETFROM:+0100
TZOFFSETTO:+0200
TZNAME:Europe/Berlin CEST
END:DAYLIGHT
BEGIN:DAYLIGHT
DTSTART:20210328T030000
RDATE:20211031T020000
TZOFFSETFROM:+0100
TZOFFSETTO:+0200
TZNAME:Europe/Berlin CEST
END:DAYLIGHT
BEGIN:DAYLIGHT
DTSTART:20220327T030000
RDATE:20221030T020000
TZOFFSETFROM:+0100
TZOFFSETTO:+0200
TZNAME:Europe/Berlin CEST
END:DAYLIGHT
BEGIN:DAYLIGHT
DTSTART:20230326T030000
RDATE:20231029T020000
TZOFFSETFROM:+0100
TZOFFSETTO:+0200
TZNAME:Europe/Berlin CEST
END:DAYLIGHT
BEGIN:DAYLIGHT
DTSTART:20240331T030000
RDATE:20241027T020000
TZOFFSETFROM:+0100
TZOFFSETTO:+0200
TZNAME:Europe/Berlin CEST
END:DAYLIGHT
BEGIN:DAYLIGHT
DTSTART:20250330T030000
RDATE:20251026T020000
TZOFFSETFROM:+0100
TZOFFSETTO:+0200
TZNAME:Europe/Berlin CEST
END:DAYLIGHT
BEGIN:DAYLIGHT
DTSTART:20260329T030000
RDATE:20261025T020000
TZOFFSETFROM:+0100
TZOFFSETTO:+0200
TZNAME:Europe/Berlin CEST
END:DAYLIGHT
BEGIN:DAYLIGHT
DTSTART:20270328T030000
RDATE:20271031T020000
TZOFFSETFROM:+0100
TZOFFSETTO:+0200
TZNAME:Europe/Berlin CEST
END:DAYLIGHT
BEGIN:DAYLIGHT
DTSTART:20280326T030000
RDATE:20281029T020000
TZOFFSETFROM:+0100
TZOFFSETTO:+0200
TZNAME:Europe/Berlin CEST
END:DAYLIGHT
BEGIN:DAYLIGHT
DTSTART:20290325T030000
RDATE:20291028T020000
TZOFFSETFROM:+0100
TZOFFSETTO:+0200
TZNAME:Europe/Berlin CEST
END:DAYLIGHT
BEGIN:DAYLIGHT
DTSTART:20300331T030000
RDATE:20301027T020000
TZOFFSETFROM:+0100
TZOFFSETTO:+0200
TZNAME:Europe/Berlin CEST
END:DAYLIGHT
BEGIN:DAYLIGHT
DTSTART:20310330T030000
RDATE:20311026T020000
TZOFFSETFROM:+0100
TZOFFSETTO:+0200
TZNAME:Europe/Berlin CEST
END:DAYLIGHT
END:VTIMEZONE
BEGIN:VEVENT
UID:adbc43cff07ec095e70c59535fb4ebe8
CATEGORIES:Sonstige
CREATED:20171113T190333
SUMMARY:Welpenfrühförderung
DESCRIPTION:Fortbildung für Züchter mit Sachkundenachweis \nReferent: Hr. Rolf Franck\n
 Termin: 04. Februar 2018\nBeginn: 10:00\nVoraussichtliches Ende ca 16:00\n 
 \nVerbindliche Anmeldung bitte per mail an Dr. A. Pallavicini Diese E-Mail-
 Adresse ist vor Spambots geschützt! Zur Anzeige muss JavaScript eingeschalt
 et sein!
				document.getElementById('cloak9062e7f6edb17aa78b056a99abb6ac4a
 ').innerHTML = '';
				var prefix = '&#109;a' + 'i&#108;' + '&#116;o';
				
 var path = 'hr' + 'ef' + '=';
				var addy9062e7f6edb17aa78b056a99abb6ac4a 
 = 'schr&#105;ftf&#117;&#101;hr&#101;r_pr&#101;ss&#101;' + '&#64;';
				addy
 9062e7f6edb17aa78b056a99abb6ac4a = addy9062e7f6edb17aa78b056a99abb6ac4a + '
 cfbrh-b&#97;d&#101;n-pf&#97;lz' + '&#46;' + 'd&#101;';
				var addy_text906
 2e7f6edb17aa78b056a99abb6ac4a = 'schr&#105;ftf&#117;&#101;hr&#101;r_pr&#101
 ;ss&#101;' + '&#64;' + 'cfbrh-b&#97;d&#101;n-pf&#97;lz' + '&#46;' + 'd&#101
 ;';document.getElementById('cloak9062e7f6edb17aa78b056a99abb6ac4a').innerHT
 ML += '<a ' + path + '\'' + prefix + ':' + addy9062e7f6edb17aa78b056a99abb6
 ac4a + '\'>'+addy_text9062e7f6edb17aa78b056a99abb6ac4a+'';
		 bis 15. Janua
 r 2018\nMit der Anmeldung wird die Seminargebühr von 50,- € fällig zu zahle
 n auf folgendes Konto: Volksbank Worms-Wonnegau\nIBAN DE80 5509 1200 0011 3
 735 00 BIC GENODE61AZY \nBitte als Verwendungszweck Namen und Seminar Feb 2
 018 angeben\nEs ist ein Mittagessen geplant, bei der Anmeldung bitte angebe
 n ob vegetarisch oder nicht.\n
X-ALT-DESC;FMTTYPE=text/html:<p>Fortbildung für Züchter mit Sachkundenachweis <br />Referent: Hr. Rolf F
 ranck<br />Termin: 04. Februar 2018<br />Beginn: 10:00<br />Voraussichtlich
 es Ende ca 16:00</p><p>&nbsp;</p><p>Verbindliche Anmeldung bitte per mail a
 n Dr. A. Pallavicini <span id="cloak9062e7f6edb17aa78b056a99abb6ac4a">Diese
  E-Mail-Adresse ist vor Spambots geschützt! Zur Anzeige muss JavaScript ein
 geschaltet sein!</span><script type='text/javascript'>
				document.getElem
 entById('cloak9062e7f6edb17aa78b056a99abb6ac4a').innerHTML = '';
				var pr
 efix = '&#109;a' + 'i&#108;' + '&#116;o';
				var path = 'hr' + 'ef' + '=';
 
				var addy9062e7f6edb17aa78b056a99abb6ac4a = 'schr&#105;ftf&#117;&#101;h
 r&#101;r_pr&#101;ss&#101;' + '&#64;';
				addy9062e7f6edb17aa78b056a99abb6a
 c4a = addy9062e7f6edb17aa78b056a99abb6ac4a + 'cfbrh-b&#97;d&#101;n-pf&#97;l
 z' + '&#46;' + 'd&#101;';
				var addy_text9062e7f6edb17aa78b056a99abb6ac4a
  = 'schr&#105;ftf&#117;&#101;hr&#101;r_pr&#101;ss&#101;' + '&#64;' + 'cfbrh
 -b&#97;d&#101;n-pf&#97;lz' + '&#46;' + 'd&#101;';document.getElementById('c
 loak9062e7f6edb17aa78b056a99abb6ac4a').innerHTML += '<a ' + path + '\'' + p
 refix + ':' + addy9062e7f6edb17aa78b056a99abb6ac4a + '\'>'+addy_text9062e7f
 6edb17aa78b056a99abb6ac4a+'<\/a>';
		</script> bis 15. Januar 2018<br />Mit
  der Anmeldung wird die Seminargebühr von 50,- € fällig zu zahlen auf folge
 ndes Konto: Volksbank Worms-Wonnegau<br />IBAN DE80 5509 1200 0011 3735 00 
 BIC GENODE61AZY <br />Bitte als Verwendungszweck Namen und Seminar Feb 2018
  angeben<br />Es ist ein Mittagessen geplant, bei der Anmeldung bitte angeb
 en ob vegetarisch oder nicht.</p>
DTSTAMP:20260421T083502
DTSTART;TZID=Europe/Berlin:20180204T100000
DTEND;TZID=Europe/Berlin:20180204T160000
SEQUENCE:0
TRANSP:OPAQUE
END:VEVENT
END:VCALENDAR