BEGIN:VCALENDAR
VERSION:2.0
PRODID:-//jEvents 2.0 for Joomla//EN
CALSCALE:GREGORIAN
METHOD:PUBLISH
BEGIN:VTIMEZONE
TZID:Europe/Berlin
BEGIN:STANDARD
DTSTART:20251026T020000
RDATE:20260329T030000
TZOFFSETFROM:+0200
TZOFFSETTO:+0100
TZNAME:Europe/Berlin CET
END:STANDARD
BEGIN:STANDARD
DTSTART:20261025T020000
RDATE:20270328T030000
TZOFFSETFROM:+0200
TZOFFSETTO:+0100
TZNAME:Europe/Berlin CET
END:STANDARD
BEGIN:STANDARD
DTSTART:20271031T020000
RDATE:20280326T030000
TZOFFSETFROM:+0200
TZOFFSETTO:+0100
TZNAME:Europe/Berlin CET
END:STANDARD
BEGIN:STANDARD
DTSTART:20281029T020000
RDATE:20290325T030000
TZOFFSETFROM:+0200
TZOFFSETTO:+0100
TZNAME:Europe/Berlin CET
END:STANDARD
BEGIN:STANDARD
DTSTART:20291028T020000
RDATE:20300331T030000
TZOFFSETFROM:+0200
TZOFFSETTO:+0100
TZNAME:Europe/Berlin CET
END:STANDARD
BEGIN:STANDARD
DTSTART:20301027T020000
RDATE:20310330T030000
TZOFFSETFROM:+0200
TZOFFSETTO:+0100
TZNAME:Europe/Berlin CET
END:STANDARD
BEGIN:STANDARD
DTSTART:20311026T020000
RDATE:20320328T030000
TZOFFSETFROM:+0200
TZOFFSETTO:+0100
TZNAME:Europe/Berlin CET
END:STANDARD
BEGIN:DAYLIGHT
DTSTART:20250821T100000
RDATE:20251026T020000
TZOFFSETFROM:+0100
TZOFFSETTO:+0200
TZNAME:Europe/Berlin CEST
END:DAYLIGHT
BEGIN:DAYLIGHT
DTSTART:20260329T030000
RDATE:20261025T020000
TZOFFSETFROM:+0100
TZOFFSETTO:+0200
TZNAME:Europe/Berlin CEST
END:DAYLIGHT
BEGIN:DAYLIGHT
DTSTART:20270328T030000
RDATE:20271031T020000
TZOFFSETFROM:+0100
TZOFFSETTO:+0200
TZNAME:Europe/Berlin CEST
END:DAYLIGHT
BEGIN:DAYLIGHT
DTSTART:20280326T030000
RDATE:20281029T020000
TZOFFSETFROM:+0100
TZOFFSETTO:+0200
TZNAME:Europe/Berlin CEST
END:DAYLIGHT
BEGIN:DAYLIGHT
DTSTART:20290325T030000
RDATE:20291028T020000
TZOFFSETFROM:+0100
TZOFFSETTO:+0200
TZNAME:Europe/Berlin CEST
END:DAYLIGHT
BEGIN:DAYLIGHT
DTSTART:20300331T030000
RDATE:20301027T020000
TZOFFSETFROM:+0100
TZOFFSETTO:+0200
TZNAME:Europe/Berlin CEST
END:DAYLIGHT
BEGIN:DAYLIGHT
DTSTART:20310330T030000
RDATE:20311026T020000
TZOFFSETFROM:+0100
TZOFFSETTO:+0200
TZNAME:Europe/Berlin CEST
END:DAYLIGHT
END:VTIMEZONE
BEGIN:VEVENT
UID:2716cd4abbfa4ad63ac8f2536a66f5e3
CATEGORIES:Züchtertagung
CREATED:20260419T133547
SUMMARY:Züchtertagung Collie Kurzhaar 2026
DESCRIPTION:<p>Einladung zur Züchtertagung Collie Kurzhaar 2026</p><p>Die Tagesordnung 
 der Züchtertagung folgt zu gegebener Zeit. Dennoch wird um rechtzeitige Anm
 eldung gebeten.</p><p>&nbsp;</p><p><strong>HINWEIS:&nbsp;</strong></p><ul><
 li>Nur schriftlich angemeldete Personen können an der Tagung teilnehmen. (A
 nmeldung an:&nbsp;<a href="mailto:border@cfbrh.de"></a><span id="cloakbcfd0
 5ca0ed44cd6bbf11d3885eaee5a">Diese E-Mail-Adresse ist vor Spambots geschütz
 t! Zur Anzeige muss JavaScript eingeschaltet sein!</span><script type='text
 /javascript'>
				document.getElementById('cloakbcfd05ca0ed44cd6bbf11d3885e
 aee5a').innerHTML = '';
				var prefix = '&#109;a' + 'i&#108;' + '&#116;o';
 
				var path = 'hr' + 'ef' + '=';
				var addybcfd05ca0ed44cd6bbf11d3885ea
 ee5a = 'c&#111;ll&#105;&#101;k&#117;rzh&#97;&#97;r' + '&#64;';
				addybcfd
 05ca0ed44cd6bbf11d3885eaee5a = addybcfd05ca0ed44cd6bbf11d3885eaee5a + 'cfbr
 h' + '&#46;' + 'd&#101;';
				var addy_textbcfd05ca0ed44cd6bbf11d3885eaee5a
  = 'c&#111;ll&#105;&#101;k&#117;rzh&#97;&#97;r' + '&#64;' + 'cfbrh' + '&#46
 ;' + 'd&#101;';document.getElementById('cloakbcfd05ca0ed44cd6bbf11d3885eaee
 5a').innerHTML += '<a ' + path + '\'' + prefix + ':' + addybcfd05ca0ed44cd6
 bbf11d3885eaee5a + '\'>'+addy_textbcfd05ca0ed44cd6bbf11d3885eaee5a+'<\/a>';
 
		</script>)</li><li><strong>Der Zahlungseingang und somit die verbindlich
 e Reservierung der Teilnahme sollte bis zum 06.08.2026 erfolgt sein</strong
 ></li><li>Für die Teilnahme ist eine Zahlung einer&nbsp;<strong>Tagungspaus
 chale von € 49,00 pro Person</strong>&nbsp;zu entrichten. (Kontodaten werde
 n nach Anmeldung per Mail übermittelt)</li><li>In der Tagungspauschale sind
  eine Kaffeepause vor Tagungsbeginn (ca 09.30-10:00), ein Mittagessen (Buff
 et) und eine Kaffeepause am Nachmittag enthalten.&nbsp;<br />Kaltgetränke s
 ind während der Tagung im Tagungsraum ebenfalls vorhanden.&nbsp;</li><li>Er
 st bei Zahlungseingang erfolgt eine Bestätigung der Teilnahme per Mail.</li
 ><li>Gäste ohne Bezahlung bzw. Anmeldung können nicht an der Tagung teilneh
 men.</li><li>Im Tagungshotel (im Tagungsraum) sind eine geringe Anzahl an H
 unden möglich. Dennoch möchte ich dazu aufrufen von dieser Möglichkeit mögl
 ichst wenig Gebrauch zu machen</li></ul><p>Zur Information bezüglich der Ta
 gungspauschale möchte ich den Hinweis geben, dass in dieser Pauschale keine
  Leistungen vom CfBrH enthalten sind. Diese Pauschale deckt ausschließlich 
 die Kosten für den Raum mit Ausstattung und die Verpflegung ab. Aus diesem 
 Grund kann und wird der CfBrH keine Quittung über diesen Betrag austellen. 
 Der Einzug durch mich als Gastgeber erfolgt nur zur Vereinfachung gegenüber
  dem Seminarhotel. Sollte hierzu der Wunsch eines Steuerbelegs/Quittung bes
 tehen, bitte ich um schriftliche Information im Rahmen der Anmeldung, damit
  ich dies mit dem Seminarhotel vor Beginn der Veranstaltung besprechen und 
 klären kann.</p><hr /><p><strong>Ort der Tagung</strong>:<br />Best Western
  Hotel Ambassador<br />Friedrich-Ebert-Allee 1</p><p>34225 Baunatal</p><p>T
 el:&nbsp;&nbsp;+49 (0)561 4993-0</p><p>Internet:&nbsp;<a href="http://www.a
 mbassador-baunatal.bestwestern.de/">www.ambassador-baunatal.bestwestern.de<
 /a>&nbsp;</p><hr /><p>Am Anreisetag (21.08.2026) mit vorheriger Anmeldung -
  gemeinsames Abendessen und Austausch (Anmeldung wegen Tischreservierung er
 forderlich)</p><p><strong>Tagesordnung für die Züchtertagung am Samstag 22.
 08.2026 - Beginn (09:30) 10:00</strong></p><p>⁃ &nbsp; &nbsp; &nbsp; &nbsp;
  &nbsp; 09:30 &nbsp; &nbsp; &nbsp;Eintreffen der Teilnehmer mit Begrüßungsk
 affee</p><p>⁃&nbsp;&nbsp;&nbsp;&nbsp;&nbsp;&nbsp;&nbsp;&nbsp;&nbsp;&nbsp;&n
 bsp;10:00 &nbsp; &nbsp; &nbsp;Begrüßung und Start der Tagung</p><p>⁃&nbsp;&
 nbsp;&nbsp;&nbsp;&nbsp;&nbsp;&nbsp;&nbsp;&nbsp;&nbsp;&nbsp;10:15 &nbsp; &nb
 sp; &nbsp;Bericht des Rassebetreuers</p><p>⁃&nbsp;&nbsp;&nbsp;&nbsp;&nbsp;&
 nbsp;&nbsp;&nbsp;&nbsp;&nbsp;&nbsp;11:00 &nbsp; &nbsp; &nbsp;Vortrag<br /><
 br />⁃ &nbsp; &nbsp; &nbsp; &nbsp; &nbsp; 12:00&nbsp;&nbsp;&nbsp;&nbsp;&nbs
 p;&nbsp;MITTAGSPAUSE</p><p>⁃&nbsp;&nbsp;&nbsp;&nbsp;&nbsp;&nbsp;&nbsp;&nbsp
 ;&nbsp;&nbsp;&nbsp;13:00 &nbsp; &nbsp; &nbsp;Vortrag</p><p>⁃&nbsp;&nbsp;&nb
 sp;&nbsp;&nbsp;&nbsp;&nbsp;&nbsp;&nbsp;&nbsp;&nbsp;14:00 &nbsp; &nbsp; &nbs
 p;Kaffeepause</p><p>⁃&nbsp;&nbsp;&nbsp;&nbsp;&nbsp;&nbsp;&nbsp;&nbsp;&nbsp;
 &nbsp;&nbsp;14:30 &nbsp; &nbsp; &nbsp;Sonstiges</p><p>-&nbsp;&nbsp;&nbsp;&n
 bsp;ENDE ......</p><p>&nbsp;</p><p>Sollten sich bis zur Tagung noch weitere
  Themen ergeben, dann werden wir das natürlich versuchen zu berücksichtigen
 . Daher ist die Tagesordnung noch als „vorläufig“ zu sehen.</p><p>Auch "frü
 hzeit" eingereichte Themen und Inhalte können wir versuchen in der Tagesord
 nung einzubauen.</p>
DTSTAMP:20260419T145746
DTSTART;TZID=Europe/Berlin:20260822T100000
SEQUENCE:0
TRANSP:OPAQUE
END:VEVENT
END:VCALENDAR