BEGIN:VCALENDAR
VERSION:2.0
PRODID:-//jEvents 2.0 for Joomla//EN
CALSCALE:GREGORIAN
METHOD:PUBLISH
BEGIN:VTIMEZONE
TZID:Europe/Berlin
BEGIN:STANDARD
DTSTART:20241031T100000
RDATE:20250330T030000
TZOFFSETFROM:+0200
TZOFFSETTO:+0100
TZNAME:Europe/Berlin CET
END:STANDARD
BEGIN:STANDARD
DTSTART:20251026T020000
RDATE:20260329T030000
TZOFFSETFROM:+0200
TZOFFSETTO:+0100
TZNAME:Europe/Berlin CET
END:STANDARD
BEGIN:STANDARD
DTSTART:20261025T020000
RDATE:20270328T030000
TZOFFSETFROM:+0200
TZOFFSETTO:+0100
TZNAME:Europe/Berlin CET
END:STANDARD
BEGIN:STANDARD
DTSTART:20271031T020000
RDATE:20280326T030000
TZOFFSETFROM:+0200
TZOFFSETTO:+0100
TZNAME:Europe/Berlin CET
END:STANDARD
BEGIN:STANDARD
DTSTART:20281029T020000
RDATE:20290325T030000
TZOFFSETFROM:+0200
TZOFFSETTO:+0100
TZNAME:Europe/Berlin CET
END:STANDARD
BEGIN:STANDARD
DTSTART:20291028T020000
RDATE:20300331T030000
TZOFFSETFROM:+0200
TZOFFSETTO:+0100
TZNAME:Europe/Berlin CET
END:STANDARD
BEGIN:STANDARD
DTSTART:20301027T020000
RDATE:20310330T030000
TZOFFSETFROM:+0200
TZOFFSETTO:+0100
TZNAME:Europe/Berlin CET
END:STANDARD
BEGIN:STANDARD
DTSTART:20311026T020000
RDATE:20320328T030000
TZOFFSETFROM:+0200
TZOFFSETTO:+0100
TZNAME:Europe/Berlin CET
END:STANDARD
BEGIN:DAYLIGHT
DTSTART:20250330T030000
RDATE:20251026T020000
TZOFFSETFROM:+0100
TZOFFSETTO:+0200
TZNAME:Europe/Berlin CEST
END:DAYLIGHT
BEGIN:DAYLIGHT
DTSTART:20260329T030000
RDATE:20261025T020000
TZOFFSETFROM:+0100
TZOFFSETTO:+0200
TZNAME:Europe/Berlin CEST
END:DAYLIGHT
BEGIN:DAYLIGHT
DTSTART:20270328T030000
RDATE:20271031T020000
TZOFFSETFROM:+0100
TZOFFSETTO:+0200
TZNAME:Europe/Berlin CEST
END:DAYLIGHT
BEGIN:DAYLIGHT
DTSTART:20280326T030000
RDATE:20281029T020000
TZOFFSETFROM:+0100
TZOFFSETTO:+0200
TZNAME:Europe/Berlin CEST
END:DAYLIGHT
BEGIN:DAYLIGHT
DTSTART:20290325T030000
RDATE:20291028T020000
TZOFFSETFROM:+0100
TZOFFSETTO:+0200
TZNAME:Europe/Berlin CEST
END:DAYLIGHT
BEGIN:DAYLIGHT
DTSTART:20300331T030000
RDATE:20301027T020000
TZOFFSETFROM:+0100
TZOFFSETTO:+0200
TZNAME:Europe/Berlin CEST
END:DAYLIGHT
BEGIN:DAYLIGHT
DTSTART:20310330T030000
RDATE:20311026T020000
TZOFFSETFROM:+0100
TZOFFSETTO:+0200
TZNAME:Europe/Berlin CEST
END:DAYLIGHT
END:VTIMEZONE
BEGIN:VEVENT
UID:46d70f2512d53017f50708ba23626502
CATEGORIES:Züchtertagung
CREATED:20250701T102930
SUMMARY:Züchtertagung Old English Sheepdog
DESCRIPTION:<p>Züchtertagung Old English Sheepdog</p><p>Ort:&nbsp;&nbsp;Waldhotel Schäf
 erberg</p><p>&nbsp;&nbsp;&nbsp;&nbsp;&nbsp;&nbsp;&nbsp;&nbsp;&nbsp;&nbsp;&n
 bsp;Wilhelmsthaler Straße 14</p><p>&nbsp;&nbsp;&nbsp;&nbsp;&nbsp;&nbsp;&nbs
 p;&nbsp;&nbsp;&nbsp;&nbsp;34314 Espenau</p><p>Tagesordnung:</p><p>10:00&nbs
 p;&nbsp;&nbsp;Ankunft der angemeldeten Teilnehmer</p><p>10.15&nbsp;&nbsp;&n
 bsp;Begrüßung und Beginn der rassespezifischen Züchtertagung</p><p>10.20&nb
 sp;&nbsp;&nbsp;&nbsp;Kurzer Bericht des komm. stellv. Rassebetreuers</p><p>
 &nbsp;&nbsp;&nbsp;&nbsp;&nbsp;&nbsp;&nbsp;&nbsp;&nbsp;&nbsp;&nbsp;&nbsp;&nb
 sp;&nbsp;&nbsp;&nbsp;Würfe 2024 und 2025</p><p>&nbsp;&nbsp;&nbsp;&nbsp;&nbs
 p;&nbsp;&nbsp;&nbsp;&nbsp;&nbsp;&nbsp;&nbsp;&nbsp;&nbsp;&nbsp;&nbsp;Wurfgrö
 ße, Aufteilung nach Hündin und Rüden,&nbsp;</p><p>&nbsp;&nbsp;&nbsp;&nbsp;&
 nbsp;&nbsp;&nbsp;&nbsp;&nbsp;&nbsp;&nbsp;&nbsp;&nbsp;&nbsp;&nbsp;&nbsp;tot 
 geborene und bis zur Wurfeintragung gestorbene</p><p>&nbsp;&nbsp;&nbsp;&nbs
 p;&nbsp;&nbsp;&nbsp;&nbsp;&nbsp;&nbsp;&nbsp;&nbsp;&nbsp;&nbsp;&nbsp;&nbsp;K
 aiserschnitte</p><p>11:00&nbsp;&nbsp;&nbsp;Wahl des Rassebetreuers und des 
 stellvertretenden Rassebetreuers</p><ul><li>Feststellung der wahlberechtigt
 en Züchter</li></ul><p><strong>(Zuchtstättenschutzkarte nicht vergessen !!!
 )</strong></p><ul><li>Wahl des Wahlleiters</li><li>Wahl des Protokollführer
 s</li><li>Wahl des Rassebetreuers</li><li>Wahl des stellvertretenden Rasseb
 etreuers</li><li>Behandlung eingegangener Anträge</li></ul><p>Anträge zur Z
 üchtertagung mit Begründung sind bis 15.10.25 bei&nbsp;</p><p><a href="mail
 to:bobtail.stv@cfbrh.de"></a><span id="cloakd2e40889de9edf0e63ed6d13edf4579
 a">Diese E-Mail-Adresse ist vor Spambots geschützt! Zur Anzeige muss JavaSc
 ript eingeschaltet sein!</span><script type='text/javascript'>
				document
 .getElementById('cloakd2e40889de9edf0e63ed6d13edf4579a').innerHTML = '';
		
 		var prefix = '&#109;a' + 'i&#108;' + '&#116;o';
				var path = 'hr' + 'ef
 ' + '=';
				var addyd2e40889de9edf0e63ed6d13edf4579a = 'b&#111;bt&#97;&#10
 5;l.stv' + '&#64;';
				addyd2e40889de9edf0e63ed6d13edf4579a = addyd2e40889
 de9edf0e63ed6d13edf4579a + 'cfbrh' + '&#46;' + 'd&#101;';
				var addy_text
 d2e40889de9edf0e63ed6d13edf4579a = 'b&#111;bt&#97;&#105;l.stv' + '&#64;' + 
 'cfbrh' + '&#46;' + 'd&#101;';document.getElementById('cloakd2e40889de9edf0
 e63ed6d13edf4579a').innerHTML += '<a ' + path + '\'' + prefix + ':' + addyd
 2e40889de9edf0e63ed6d13edf4579a + '\'>'+addy_textd2e40889de9edf0e63ed6d13ed
 f4579a+'<\/a>';
		</script>&nbsp;&nbsp;einzureichen</p><ul><li>Verschiedene
 s</li></ul><p><strong>Mittagspause</strong></p><p><strong>&nbsp;</strong></
 p><p>14:00&nbsp;&nbsp;&nbsp;Vortrag von Rechtsanwältin Frau Stephanie Reute
 r-Lies</p><p>&nbsp;&nbsp;&nbsp;&nbsp;&nbsp;&nbsp;&nbsp;&nbsp;&nbsp;&nbsp;&n
 bsp;&nbsp;&nbsp;&nbsp;&nbsp;Thema: Hundezucht und Tierschutzgesetz</p><p>17
 :00&nbsp;&nbsp;&nbsp;Ende der Veranstaltung und individuelle Abreise</p><p>
 Tagungspauschale pro Person</p><p>Samstag: 40,50 (inkl. Snacks, Kaffee, Kuc
 hen, Kaltgetränke und Mittagessen)</p><p>Übernachtung im Waldhotel Schäferb
 erg</p><p>- Einzelzimmer inkl. Frühstück: 94,00 € / Nacht</p><p>- Doppelzim
 mer inkl. Frühstück: 129,00 € / Nacht</p><p>- Hundepauschale 15,00 € max. 2
  Hunde pro Zimmer</p><p><strong>Die Anmeldung der Übernachtung erfolgt indi
 viduell beim Hotel mit dem Hinweis auf die Züchtertagung</strong></p><p>Anm
 eldung zur Züchtertagung unter&nbsp;<a href="mailto:bobtail.stv@cfbrh.de"><
 /a><span id="cloakbefd78c00768e5342c777840c36069a0">Diese E-Mail-Adresse is
 t vor Spambots geschützt! Zur Anzeige muss JavaScript eingeschaltet sein!</
 span><script type='text/javascript'>
				document.getElementById('cloakbefd
 78c00768e5342c777840c36069a0').innerHTML = '';
				var prefix = '&#109;a' +
  'i&#108;' + '&#116;o';
				var path = 'hr' + 'ef' + '=';
				var addybefd7
 8c00768e5342c777840c36069a0 = 'b&#111;bt&#97;&#105;l.stv' + '&#64;';
				ad
 dybefd78c00768e5342c777840c36069a0 = addybefd78c00768e5342c777840c36069a0 +
  'cfbrh' + '&#46;' + 'd&#101;';
				var addy_textbefd78c00768e5342c777840c3
 6069a0 = 'b&#111;bt&#97;&#105;l.stv' + '&#64;' + 'cfbrh' + '&#46;' + 'd&#10
 1;';document.getElementById('cloakbefd78c00768e5342c777840c36069a0').innerH
 TML += '<a ' + path + '\'' + prefix + ':' + addybefd78c00768e5342c777840c36
 069a0 + '\'>'+addy_textbefd78c00768e5342c777840c36069a0+'<\/a>';
		</script
 >&nbsp;bis zum 01.10.25.</p><p>Das Konto wird nach erfolgter Anmeldung beka
 nnt gegeben.&nbsp;</p><p>Die Anmeldegebühr ist bis zum 03.10.25 zu entricht
 en.</p><p>Eine Teilnahmebestätigung erfolgt nach Zahlungseingang. Das gilt 
 auch für Begleitpersonen.</p><p><strong>Nur angemeldete Personen können an 
 der Züchtertagung teilnehmen</strong></p><p>&nbsp;</p>
DTSTAMP:20260420T100227
DTSTART;TZID=Europe/Berlin:20251101T100000
DTEND;TZID=Europe/Berlin:20251101T170000
SEQUENCE:0
TRANSP:OPAQUE
END:VEVENT
END:VCALENDAR