BEGIN:VCALENDAR
VERSION:2.0
PRODID:-//jEvents 2.0 for Joomla//EN
CALSCALE:GREGORIAN
METHOD:PUBLISH
BEGIN:VTIMEZONE
TZID:Europe/Berlin
BEGIN:STANDARD
DTSTART:20241027T020000
RDATE:20250330T030000
TZOFFSETFROM:+0200
TZOFFSETTO:+0100
TZNAME:Europe/Berlin CET
END:STANDARD
BEGIN:STANDARD
DTSTART:20251026T020000
RDATE:20260329T030000
TZOFFSETFROM:+0200
TZOFFSETTO:+0100
TZNAME:Europe/Berlin CET
END:STANDARD
BEGIN:STANDARD
DTSTART:20261025T020000
RDATE:20270328T030000
TZOFFSETFROM:+0200
TZOFFSETTO:+0100
TZNAME:Europe/Berlin CET
END:STANDARD
BEGIN:STANDARD
DTSTART:20271031T020000
RDATE:20280326T030000
TZOFFSETFROM:+0200
TZOFFSETTO:+0100
TZNAME:Europe/Berlin CET
END:STANDARD
BEGIN:STANDARD
DTSTART:20281029T020000
RDATE:20290325T030000
TZOFFSETFROM:+0200
TZOFFSETTO:+0100
TZNAME:Europe/Berlin CET
END:STANDARD
BEGIN:STANDARD
DTSTART:20291028T020000
RDATE:20300331T030000
TZOFFSETFROM:+0200
TZOFFSETTO:+0100
TZNAME:Europe/Berlin CET
END:STANDARD
BEGIN:STANDARD
DTSTART:20301027T020000
RDATE:20310330T030000
TZOFFSETFROM:+0200
TZOFFSETTO:+0100
TZNAME:Europe/Berlin CET
END:STANDARD
BEGIN:STANDARD
DTSTART:20311026T020000
RDATE:20320328T030000
TZOFFSETFROM:+0200
TZOFFSETTO:+0100
TZNAME:Europe/Berlin CET
END:STANDARD
BEGIN:DAYLIGHT
DTSTART:20240613T080000
RDATE:20241027T020000
TZOFFSETFROM:+0100
TZOFFSETTO:+0200
TZNAME:Europe/Berlin CEST
END:DAYLIGHT
BEGIN:DAYLIGHT
DTSTART:20250330T030000
RDATE:20251026T020000
TZOFFSETFROM:+0100
TZOFFSETTO:+0200
TZNAME:Europe/Berlin CEST
END:DAYLIGHT
BEGIN:DAYLIGHT
DTSTART:20260329T030000
RDATE:20261025T020000
TZOFFSETFROM:+0100
TZOFFSETTO:+0200
TZNAME:Europe/Berlin CEST
END:DAYLIGHT
BEGIN:DAYLIGHT
DTSTART:20270328T030000
RDATE:20271031T020000
TZOFFSETFROM:+0100
TZOFFSETTO:+0200
TZNAME:Europe/Berlin CEST
END:DAYLIGHT
BEGIN:DAYLIGHT
DTSTART:20280326T030000
RDATE:20281029T020000
TZOFFSETFROM:+0100
TZOFFSETTO:+0200
TZNAME:Europe/Berlin CEST
END:DAYLIGHT
BEGIN:DAYLIGHT
DTSTART:20290325T030000
RDATE:20291028T020000
TZOFFSETFROM:+0100
TZOFFSETTO:+0200
TZNAME:Europe/Berlin CEST
END:DAYLIGHT
BEGIN:DAYLIGHT
DTSTART:20300331T030000
RDATE:20301027T020000
TZOFFSETFROM:+0100
TZOFFSETTO:+0200
TZNAME:Europe/Berlin CEST
END:DAYLIGHT
BEGIN:DAYLIGHT
DTSTART:20310330T030000
RDATE:20311026T020000
TZOFFSETFROM:+0100
TZOFFSETTO:+0200
TZNAME:Europe/Berlin CEST
END:DAYLIGHT
END:VTIMEZONE
BEGIN:VEVENT
UID:1fe274d4735c58089c41e93a321dd96b
CATEGORIES:Sport und Ausbildung
CREATED:20250216T150755
SUMMARY:Obedience Seminar
DESCRIPTION:Infos und verbindliche Anmeldung bei unserer Ausbildungswartin Andrea Husma
 nn unter: Diese E-Mail-Adresse ist vor Spambots geschützt! Zur Anzeige muss
  JavaScript eingeschaltet sein!
				document.getElementById('cloak13e4c3b4d
 1547ef357ec76cdedf29f48').innerHTML = '';
				var prefix = '&#109;a' + 'i&#
 108;' + '&#116;o';
				var path = 'hr' + 'ef' + '=';
				var addy13e4c3b4d1
 547ef357ec76cdedf29f48 = 'l&#117;&#117;z05' + '&#64;';
				addy13e4c3b4d154
 7ef357ec76cdedf29f48 = addy13e4c3b4d1547ef357ec76cdedf29f48 + 'gmx' + '&#46
 ;' + 'd&#101;';
				var addy_text13e4c3b4d1547ef357ec76cdedf29f48 = 'l&#117
 ;&#117;z05' + '&#64;' + 'gmx' + '&#46;' + 'd&#101;';document.getElementById
 ('cloak13e4c3b4d1547ef357ec76cdedf29f48').innerHTML += '<a ' + path + '\'' 
 + prefix + ':' + addy13e4c3b4d1547ef357ec76cdedf29f48 + '\'>'+addy_text13e4
 c3b4d1547ef357ec76cdedf29f48+'';
		\n \nPreis pro Team/pro Tag € 70,-\n
X-ALT-DESC;FMTTYPE=text/html:<p>Infos und verbindliche Anmeldung bei unserer Ausbildungswartin Andrea Hu
 smann unter:&nbsp;<span id="cloak13e4c3b4d1547ef357ec76cdedf29f48">Diese E-
 Mail-Adresse ist vor Spambots geschützt! Zur Anzeige muss JavaScript einges
 chaltet sein!</span><script type='text/javascript'>
				document.getElement
 ById('cloak13e4c3b4d1547ef357ec76cdedf29f48').innerHTML = '';
				var prefi
 x = '&#109;a' + 'i&#108;' + '&#116;o';
				var path = 'hr' + 'ef' + '=';
		
 		var addy13e4c3b4d1547ef357ec76cdedf29f48 = 'l&#117;&#117;z05' + '&#64;';

 				addy13e4c3b4d1547ef357ec76cdedf29f48 = addy13e4c3b4d1547ef357ec76cdedf2
 9f48 + 'gmx' + '&#46;' + 'd&#101;';
				var addy_text13e4c3b4d1547ef357ec76
 cdedf29f48 = 'l&#117;&#117;z05' + '&#64;' + 'gmx' + '&#46;' + 'd&#101;';doc
 ument.getElementById('cloak13e4c3b4d1547ef357ec76cdedf29f48').innerHTML += 
 '<a ' + path + '\'' + prefix + ':' + addy13e4c3b4d1547ef357ec76cdedf29f48 +
  '\'>'+addy_text13e4c3b4d1547ef357ec76cdedf29f48+'<\/a>';
		</script></p><p
 >&nbsp;</p><p>Preis pro Team/pro Tag € 70,-</p>
DTSTAMP:20260423T113301
DTSTART;TZID=Europe/Berlin:20250614T080000
DTEND;TZID=Europe/Berlin:20250614T170000
SEQUENCE:0
TRANSP:OPAQUE
END:VEVENT
END:VCALENDAR