BEGIN:VCALENDAR
VERSION:2.0
PRODID:-//jEvents 2.0 for Joomla//EN
CALSCALE:GREGORIAN
METHOD:PUBLISH
BEGIN:VTIMEZONE
TZID:Europe/Berlin
BEGIN:STANDARD
DTSTART:20241027T020000
RDATE:20250330T030000
TZOFFSETFROM:+0200
TZOFFSETTO:+0100
TZNAME:Europe/Berlin CET
END:STANDARD
BEGIN:STANDARD
DTSTART:20251026T020000
RDATE:20260329T030000
TZOFFSETFROM:+0200
TZOFFSETTO:+0100
TZNAME:Europe/Berlin CET
END:STANDARD
BEGIN:STANDARD
DTSTART:20261025T020000
RDATE:20270328T030000
TZOFFSETFROM:+0200
TZOFFSETTO:+0100
TZNAME:Europe/Berlin CET
END:STANDARD
BEGIN:STANDARD
DTSTART:20271031T020000
RDATE:20280326T030000
TZOFFSETFROM:+0200
TZOFFSETTO:+0100
TZNAME:Europe/Berlin CET
END:STANDARD
BEGIN:STANDARD
DTSTART:20281029T020000
RDATE:20290325T030000
TZOFFSETFROM:+0200
TZOFFSETTO:+0100
TZNAME:Europe/Berlin CET
END:STANDARD
BEGIN:STANDARD
DTSTART:20291028T020000
RDATE:20300331T030000
TZOFFSETFROM:+0200
TZOFFSETTO:+0100
TZNAME:Europe/Berlin CET
END:STANDARD
BEGIN:STANDARD
DTSTART:20301027T020000
RDATE:20310330T030000
TZOFFSETFROM:+0200
TZOFFSETTO:+0100
TZNAME:Europe/Berlin CET
END:STANDARD
BEGIN:STANDARD
DTSTART:20311026T020000
RDATE:20320328T030000
TZOFFSETFROM:+0200
TZOFFSETTO:+0100
TZNAME:Europe/Berlin CET
END:STANDARD
BEGIN:DAYLIGHT
DTSTART:20240830T100000
RDATE:20241027T020000
TZOFFSETFROM:+0100
TZOFFSETTO:+0200
TZNAME:Europe/Berlin CEST
END:DAYLIGHT
BEGIN:DAYLIGHT
DTSTART:20250330T030000
RDATE:20251026T020000
TZOFFSETFROM:+0100
TZOFFSETTO:+0200
TZNAME:Europe/Berlin CEST
END:DAYLIGHT
BEGIN:DAYLIGHT
DTSTART:20260329T030000
RDATE:20261025T020000
TZOFFSETFROM:+0100
TZOFFSETTO:+0200
TZNAME:Europe/Berlin CEST
END:DAYLIGHT
BEGIN:DAYLIGHT
DTSTART:20270328T030000
RDATE:20271031T020000
TZOFFSETFROM:+0100
TZOFFSETTO:+0200
TZNAME:Europe/Berlin CEST
END:DAYLIGHT
BEGIN:DAYLIGHT
DTSTART:20280326T030000
RDATE:20281029T020000
TZOFFSETFROM:+0100
TZOFFSETTO:+0200
TZNAME:Europe/Berlin CEST
END:DAYLIGHT
BEGIN:DAYLIGHT
DTSTART:20290325T030000
RDATE:20291028T020000
TZOFFSETFROM:+0100
TZOFFSETTO:+0200
TZNAME:Europe/Berlin CEST
END:DAYLIGHT
BEGIN:DAYLIGHT
DTSTART:20300331T030000
RDATE:20301027T020000
TZOFFSETFROM:+0100
TZOFFSETTO:+0200
TZNAME:Europe/Berlin CEST
END:DAYLIGHT
BEGIN:DAYLIGHT
DTSTART:20310330T030000
RDATE:20311026T020000
TZOFFSETFROM:+0100
TZOFFSETTO:+0200
TZNAME:Europe/Berlin CEST
END:DAYLIGHT
END:VTIMEZONE
BEGIN:VEVENT
UID:24a4676e55f98a9299f09019790fddb1
CATEGORIES:Züchtertagung
CREATED:20250202T173446
SUMMARY:Züchtertagung Border Collie 2025
DESCRIPTION:Einladung zur Züchtertagung Border Collie 2025\nDie Tagesordnung der Züchte
 rtagung folgt zu gegebener Zeit. Dennoch wird um rechtzeitige Anmeldung geb
 eten.\n \nGerne können wir uns auch bereits am Tag vor der Züchtertagung vo
 r Ort einfinden und bei einem gemeinsamen Abendessen in den Austausch gehen
 . Wer das in Erwägung zieht, meldet sich bitte dazzu extra bei mir unter Di
 ese E-Mail-Adresse ist vor Spambots geschützt! Zur Anzeige muss JavaScript 
 eingeschaltet sein!
				document.getElementById('cloak2456c2ae0c6d6a1b5bafc
 258f197b3ec').innerHTML = '';
				var prefix = '&#109;a' + 'i&#108;' + '&#1
 16;o';
				var path = 'hr' + 'ef' + '=';
				var addy2456c2ae0c6d6a1b5bafc2
 58f197b3ec = 'b&#111;rd&#101;r' + '&#64;';
				addy2456c2ae0c6d6a1b5bafc258
 f197b3ec = addy2456c2ae0c6d6a1b5bafc258f197b3ec + 'cfbrh' + '&#46;' + 'd&#1
 01;';
				var addy_text2456c2ae0c6d6a1b5bafc258f197b3ec = 'b&#111;rd&#101;r
 ' + '&#64;' + 'cfbrh' + '&#46;' + 'd&#101;';document.getElementById('cloak2
 456c2ae0c6d6a1b5bafc258f197b3ec').innerHTML += '<a ' + path + '\'' + prefix
  + ':' + addy2456c2ae0c6d6a1b5bafc258f197b3ec + '\'>'+addy_text2456c2ae0c6d
 6a1b5bafc258f197b3ec+'';
		, damit ich für uns einen Tisch reservieren kann
 . \nHINWEIS: \n\n - Nur schriftlich angemeldete Personen können an der Tagu
 ng teilnehmen. (Anmeldung an: Diese E-Mail-Adresse ist vor Spambots geschüt
 zt! Zur Anzeige muss JavaScript eingeschaltet sein!
				document.getElement
 ById('cloak59c77273f362aaaa32fc8397469ddf5b').innerHTML = '';
				var prefi
 x = '&#109;a' + 'i&#108;' + '&#116;o';
				var path = 'hr' + 'ef' + '=';
		
 		var addy59c77273f362aaaa32fc8397469ddf5b = 'b&#111;rd&#101;r' + '&#64;';

 				addy59c77273f362aaaa32fc8397469ddf5b = addy59c77273f362aaaa32fc8397469d
 df5b + 'cfbrh' + '&#46;' + 'd&#101;';
				var addy_text59c77273f362aaaa32fc
 8397469ddf5b = 'b&#111;rd&#101;r' + '&#64;' + 'cfbrh' + '&#46;' + 'd&#101;'
 ;document.getElementById('cloak59c77273f362aaaa32fc8397469ddf5b').innerHTML
  += '<a ' + path + '\'' + prefix + ':' + addy59c77273f362aaaa32fc8397469ddf
 5b + '\'>'+addy_text59c77273f362aaaa32fc8397469ddf5b+'';
		)\n - Der Zahlun
 gseingang und somit die verbindliche Reservierung der Teilnahme sollte bis 
 zum 10.08.2025 erfolgt sein\n - Für die Teilnahme ist eine Zahlung einer Ta
 gungspauschale von € 49,50 pro Person zu entrichten. (Kontodaten werden nac
 h Anmeldung per Mail übermittelt)\n - In der Tagungspauschale sind eine Kaf
 feepause vor Tagungsbeginn (ca 10:00) und ein Mittagessen (3 Gänge Buffet) 
 enthalten. \nKaltgetränke sind während der Tagung im Tagungsraum ebenfalls 
 vorhanden. \n - Erst bei Zahlungseingang erfolgt eine Bestätigung der Teiln
 ahme per Mail.\n - Gäste ohne Bezahlung bzw. Anmeldung können nicht an der 
 Tagung teilnehmen.\n - Im Tagungshotel (im Tagungsraum) sind eine geringe A
 nzahl an Hunden möglich. Dennoch möchte ich dazu aufrufen von dieser Möglic
 hkeit möglichst wenig Gebrauch zu machen\n(Es gibt wenig bis keine Möglichk
 eiten das Auto ganztägig im Schatten zu parken!)Da wir für die Tagung ca 5-
 10 Border Collies benötigen, bitte ich auch hier um direkte Anmeldung bei m
 ir, wer seinen Hund für ein geplantes Ringtraining als aktivcer Teilnehmer 
 mitbringen möchte.\n \nZur Information bezüglich der Tagungspauschale möcht
 e ich den Hinweis geben, dass in dieser Pauschale keine Leistungen vom CfBr
 H enthalten sind. Diese Pauschale deckt ausschließlich die Kosten für den R
 aum mit Ausstattung und die Verpflegung ab. Aus diesem Grund kann und wird 
 der CfBrH keine Quittung über diesen Betrag austellen. Der Einzug durch mic
 h als Gastgeber erfolgt nur zur Vereinfachung gegenüber dem Seminarhotel. S
 ollte hierzu der Wunsch eines Steuerbelegs/Quittung bestehen, bitte ich um 
 schriftliche Information im Rahmen der Anmeldung, damit ich dies mit dem Se
 minarhotel vor Beginn der Veranstaltung besprechen und klären kann.\nAm Vor
 tag (Samstag 30.08.2025) können wir uns schon zu einem gemeinsamen Abendess
 en im Hotel treffen. Wer daran Interesse hat, möge sich bitte unbedingt im 
 Rahmen seiner Anmeldung auch dazu anmelden, damit ich einen entsprechenden 
 Tisch reservieren kann.\n \nOrt der Tagung:\nWaldhotel Schäferberg\nWilhelm
 sthaler Str. 14\n34314 Espenau\nTel. 05673 / 9960\nWeb: www.schaeferberg.de
 \n \nTagesordnung für die Züchtertagung am Sonntag 31.08.2025 - Beginn 10:0
 0\n⁃           10:00      Eintreffen der Teilnehmer mit Begrüßungskaffee\n⁃
            10:15      Begrüßung und Start der Tagung\n⁃           10:20    
   Kurzer Bericht des Rassebetreuers\n⁃           11:00      Feststellung de
 r wahlberechtigten Züchter\n                           (Zuchtstättenschutzk
 arte des CfBrH nicht vergessen)\n                           - Wahl eines Wa
 hlleiters\n                           - Wahl des Rassebetreuers\n          
                  - Wahl des stellvertretenden Rassebetreuers\n⁃           1
 2:00      MITTAGSPAUSE\n⁃           13:00      Alles rund um die Ausstellun
 g\n               - Theorie\n               - Ringtraining (für maximal 5-1
 0 Hunde)\n                 Ich bitte unbedingt darum, dass sich die Teilneh
 mer mit Hund bei mir vorher\n                 anmelden.\n               - Z
 usätzlich werden wir auch eine praktische Übung mit einbauen: \n           
       Beurteilung der Hunde aus der Sicht des Richters\n-    ENDE voraussic
 htlich 15 Uhr\n \nSollten sich bis zur Tagung noch weitere Themen ergeben, 
 dann werden wir das natürlich versuchen zu berücksichtigen. Daher ist die T
 agesordnung noch als „vorläufig“ zu sehen.\n\nDie Züchter bitte ich darum i
 hre gültige Zuchtstättenkarte mitzubrigen.\n
X-ALT-DESC;FMTTYPE=text/html:<p>Einladung zur Züchtertagung Border Collie 2025</p><p>Die Tagesordnung de
 r Züchtertagung folgt zu gegebener Zeit. Dennoch wird um rechtzeitige Anmel
 dung gebeten.</p><p>&nbsp;</p><p><strong>Gerne können wir uns auch bereits 
 am Tag vor der Züchtertagung vor Ort einfinden und bei einem gemeinsamen Ab
 endessen in den Austausch gehen. Wer das in Erwägung zieht, meldet sich bit
 te dazzu extra bei mir unter <span id="cloak2456c2ae0c6d6a1b5bafc258f197b3e
 c">Diese E-Mail-Adresse ist vor Spambots geschützt! Zur Anzeige muss JavaSc
 ript eingeschaltet sein!</span><script type='text/javascript'>
				document
 .getElementById('cloak2456c2ae0c6d6a1b5bafc258f197b3ec').innerHTML = '';
		
 		var prefix = '&#109;a' + 'i&#108;' + '&#116;o';
				var path = 'hr' + 'ef
 ' + '=';
				var addy2456c2ae0c6d6a1b5bafc258f197b3ec = 'b&#111;rd&#101;r' 
 + '&#64;';
				addy2456c2ae0c6d6a1b5bafc258f197b3ec = addy2456c2ae0c6d6a1b5
 bafc258f197b3ec + 'cfbrh' + '&#46;' + 'd&#101;';
				var addy_text2456c2ae0
 c6d6a1b5bafc258f197b3ec = 'b&#111;rd&#101;r' + '&#64;' + 'cfbrh' + '&#46;' 
 + 'd&#101;';document.getElementById('cloak2456c2ae0c6d6a1b5bafc258f197b3ec'
 ).innerHTML += '<a ' + path + '\'' + prefix + ':' + addy2456c2ae0c6d6a1b5ba
 fc258f197b3ec + '\'>'+addy_text2456c2ae0c6d6a1b5bafc258f197b3ec+'<\/a>';
		
 </script>, damit ich für uns einen Tisch reservieren kann.&nbsp;</strong></
 p><p><span style="color: #ff0000;"><strong>HINWEIS: </strong></span></p><ul
 ><li>Nur schriftlich angemeldete Personen können an der Tagung teilnehmen. 
 (Anmeldung an: <span id="cloak59c77273f362aaaa32fc8397469ddf5b">Diese E-Mai
 l-Adresse ist vor Spambots geschützt! Zur Anzeige muss JavaScript eingescha
 ltet sein!</span><script type='text/javascript'>
				document.getElementByI
 d('cloak59c77273f362aaaa32fc8397469ddf5b').innerHTML = '';
				var prefix =
  '&#109;a' + 'i&#108;' + '&#116;o';
				var path = 'hr' + 'ef' + '=';
				v
 ar addy59c77273f362aaaa32fc8397469ddf5b = 'b&#111;rd&#101;r' + '&#64;';
			
 	addy59c77273f362aaaa32fc8397469ddf5b = addy59c77273f362aaaa32fc8397469ddf5
 b + 'cfbrh' + '&#46;' + 'd&#101;';
				var addy_text59c77273f362aaaa32fc839
 7469ddf5b = 'b&#111;rd&#101;r' + '&#64;' + 'cfbrh' + '&#46;' + 'd&#101;';do
 cument.getElementById('cloak59c77273f362aaaa32fc8397469ddf5b').innerHTML +=
  '<a ' + path + '\'' + prefix + ':' + addy59c77273f362aaaa32fc8397469ddf5b 
 + '\'>'+addy_text59c77273f362aaaa32fc8397469ddf5b+'<\/a>';
		</script>)</li
 ><li>Der Zahlungseingang und somit die verbindliche Reservierung der Teilna
 hme sollte bis zum 10.08.2025 erfolgt sein</li><li>Für die Teilnahme ist ei
 ne Zahlung einer <strong>Tagungspauschale von € 49,50 pro Person</strong> z
 u entrichten. (<span style="color: #ff0000;">Kontodaten werden nach Anmeldu
 ng per Mail übermittelt)</span></li><li>In der Tagungspauschale sind eine K
 affeepause vor Tagungsbeginn (ca 10:00) und ein Mittagessen (3 Gänge Buffet
 ) enthalten. <br />Kaltgetränke sind während der Tagung im Tagungsraum eben
 falls vorhanden.&nbsp;</li><li>Erst bei Zahlungseingang erfolgt eine Bestät
 igung der Teilnahme per Mail.</li><li>Gäste ohne Bezahlung bzw. Anmeldung k
 önnen nicht an der Tagung teilnehmen.</li><li>Im Tagungshotel (im Tagungsra
 um) sind eine geringe Anzahl an Hunden möglich. Dennoch möchte ich dazu auf
 rufen von dieser Möglichkeit möglichst wenig Gebrauch zu machen<br />(Es gi
 bt wenig bis keine Möglichkeiten das Auto ganztägig im Schatten zu parken!)
 </li></ul><p><strong>Da wir für die Tagung ca 5-10 Border Collies benötigen
 , bitte ich auch hier um direkte Anmeldung bei mir, wer seinen Hund für ein
  geplantes Ringtraining als aktivcer Teilnehmer mitbringen möchte.</strong>
 </p><p>&nbsp;<br />Zur Information bezüglich der Tagungspauschale möchte ic
 h den Hinweis geben, dass in dieser Pauschale keine Leistungen vom CfBrH en
 thalten sind. Diese Pauschale deckt ausschließlich die Kosten für den Raum 
 mit Ausstattung und die Verpflegung ab. Aus diesem Grund kann und wird der 
 CfBrH keine Quittung über diesen Betrag austellen. Der Einzug durch mich al
 s Gastgeber erfolgt nur zur Vereinfachung gegenüber dem Seminarhotel. Sollt
 e hierzu der Wunsch eines Steuerbelegs/Quittung bestehen, bitte ich um schr
 iftliche Information im Rahmen der Anmeldung, damit ich dies mit dem Semina
 rhotel vor Beginn der Veranstaltung besprechen und klären kann.</p><p><stro
 ng>Am Vortag (Samstag 30.08.2025) können wir uns schon zu einem gemeinsamen
  Abendessen im Hotel treffen. Wer daran Interesse hat, möge sich bitte unbe
 dingt im Rahmen seiner Anmeldung auch dazu anmelden, damit ich einen entspr
 echenden Tisch reservieren kann.</strong></p><p><strong>&nbsp;</strong></p>
 <p><strong>Ort der Tagung</strong>:<br />Waldhotel Schäferberg</p><p>Wilhel
 msthaler Str. 14</p><p>34314 Espenau<br />Tel. 05673 / 9960<br />Web: www.s
 chaeferberg.de</p><p><strong>&nbsp;</strong></p><p><strong>Tagesordnung für
  die Züchtertagung am Sonntag 31.08.2025 - Beginn 10:00</strong></p><p>⁃&nb
 sp;&nbsp;&nbsp;&nbsp;&nbsp;&nbsp;&nbsp;&nbsp;&nbsp;&nbsp;&nbsp;10:00&nbsp;&
 nbsp;&nbsp;&nbsp;&nbsp;&nbsp;Eintreffen der Teilnehmer mit Begrüßungskaffee
 </p><p>⁃&nbsp;&nbsp;&nbsp;&nbsp;&nbsp;&nbsp;&nbsp;&nbsp;&nbsp;&nbsp;&nbsp;1
 0:15&nbsp;&nbsp;&nbsp;&nbsp;&nbsp;&nbsp;Begrüßung und Start der Tagung</p><
 p>⁃&nbsp;&nbsp;&nbsp;&nbsp;&nbsp;&nbsp;&nbsp;&nbsp;&nbsp;&nbsp;&nbsp;10:20&
 nbsp;&nbsp;&nbsp;&nbsp;&nbsp;&nbsp;Kurzer Bericht des Rassebetreuers</p><p>
 ⁃&nbsp;&nbsp;&nbsp;&nbsp;&nbsp;&nbsp;&nbsp;&nbsp;&nbsp;&nbsp;&nbsp;11:00&nb
 sp;&nbsp;&nbsp;&nbsp;&nbsp;&nbsp;Feststellung der wahlberechtigten Züchter<
 br />&nbsp; &nbsp; &nbsp; &nbsp; &nbsp; &nbsp; &nbsp; &nbsp; &nbsp; &nbsp; 
 &nbsp; &nbsp; &nbsp; &nbsp;(<strong>Zuchtst</strong><strong>ättenschutzkart
 e</strong>&nbsp;des CfBrH nicht vergessen)<br />&nbsp; &nbsp; &nbsp; &nbsp;
  &nbsp; &nbsp; &nbsp; &nbsp; &nbsp; &nbsp; &nbsp; &nbsp; &nbsp; &nbsp;- Wah
 l eines Wahlleiters<br />&nbsp; &nbsp; &nbsp; &nbsp; &nbsp; &nbsp; &nbsp; &
 nbsp; &nbsp; &nbsp; &nbsp; &nbsp; &nbsp; &nbsp;- Wahl des Rassebetreuers<br
  />&nbsp; &nbsp; &nbsp; &nbsp; &nbsp; &nbsp; &nbsp; &nbsp; &nbsp; &nbsp; &n
 bsp; &nbsp; &nbsp; &nbsp;- Wahl des stellvertretenden Rassebetreuers</p><p>
 ⁃ &nbsp; &nbsp; &nbsp; &nbsp; &nbsp; 12:00&nbsp;&nbsp;&nbsp;&nbsp;&nbsp;&nb
 sp;MITTAGSPAUSE</p><p>⁃&nbsp;&nbsp;&nbsp;&nbsp;&nbsp;&nbsp;&nbsp;&nbsp;&nbs
 p;&nbsp;&nbsp;13:00&nbsp;&nbsp;&nbsp;&nbsp;&nbsp;&nbsp;Alles rund um die Au
 sstellung<br />&nbsp;&nbsp;&nbsp;&nbsp;&nbsp;&nbsp;&nbsp;&nbsp;&nbsp;&nbsp;
 &nbsp;&nbsp;&nbsp;&nbsp;&nbsp;- Theorie<br />&nbsp;&nbsp;&nbsp;&nbsp;&nbsp;
 &nbsp;&nbsp;&nbsp;&nbsp;&nbsp;&nbsp;&nbsp;&nbsp;&nbsp;&nbsp;- Ringtraining 
 (für maximal 5-10 Hunde)<br />&nbsp;&nbsp;&nbsp;&nbsp;&nbsp;&nbsp;&nbsp;&nb
 sp;&nbsp;&nbsp;&nbsp;&nbsp;&nbsp;&nbsp;&nbsp;&nbsp;&nbsp;Ich bitte unbeding
 t darum, dass sich die Teilnehmer mit Hund bei mir vorher<br />&nbsp;&nbsp;
 &nbsp;&nbsp;&nbsp;&nbsp;&nbsp;&nbsp;&nbsp;&nbsp;&nbsp;&nbsp;&nbsp;&nbsp;&nb
 sp;&nbsp;&nbsp;anmelden.<br />&nbsp;&nbsp;&nbsp;&nbsp;&nbsp;&nbsp;&nbsp;&nb
 sp;&nbsp;&nbsp;&nbsp;&nbsp;&nbsp;&nbsp;&nbsp;- Zusätzlich werden wir auch e
 ine praktische Übung mit einbauen:&nbsp;<br />&nbsp;&nbsp;&nbsp;&nbsp;&nbsp
 ;&nbsp;&nbsp;&nbsp;&nbsp;&nbsp;&nbsp;&nbsp;&nbsp;&nbsp;&nbsp;&nbsp;&nbsp;Be
 urteilung der Hunde aus der Sicht des Richters</p><p>-&nbsp;&nbsp;&nbsp;&nb
 sp;ENDE voraussichtlich 15 Uhr</p><p>&nbsp;</p><p>Sollten sich bis zur Tagu
 ng noch weitere Themen ergeben, dann werden wir das natürlich versuchen zu 
 berücksichtigen. Daher ist die Tagesordnung noch als „vorläufig“ zu sehen.<
 /p><p><br />Die Züchter bitte ich darum ihre gültige Zuchtstättenkarte mitz
 ubrigen.</p>
DTSTAMP:20260423T113230
DTSTART;TZID=Europe/Berlin:20250831T100000
SEQUENCE:0
TRANSP:OPAQUE
END:VEVENT
END:VCALENDAR