BEGIN:VCALENDAR
VERSION:2.0
PRODID:-//jEvents 2.0 for Joomla//EN
CALSCALE:GREGORIAN
METHOD:PUBLISH
BEGIN:VTIMEZONE
TZID:Europe/Berlin
BEGIN:STANDARD
DTSTART:20241108T000000
RDATE:20250330T030000
TZOFFSETFROM:+0200
TZOFFSETTO:+0100
TZNAME:Europe/Berlin CET
END:STANDARD
BEGIN:STANDARD
DTSTART:20251026T020000
RDATE:20260329T030000
TZOFFSETFROM:+0200
TZOFFSETTO:+0100
TZNAME:Europe/Berlin CET
END:STANDARD
BEGIN:STANDARD
DTSTART:20261025T020000
RDATE:20270328T030000
TZOFFSETFROM:+0200
TZOFFSETTO:+0100
TZNAME:Europe/Berlin CET
END:STANDARD
BEGIN:STANDARD
DTSTART:20271031T020000
RDATE:20280326T030000
TZOFFSETFROM:+0200
TZOFFSETTO:+0100
TZNAME:Europe/Berlin CET
END:STANDARD
BEGIN:STANDARD
DTSTART:20281029T020000
RDATE:20290325T030000
TZOFFSETFROM:+0200
TZOFFSETTO:+0100
TZNAME:Europe/Berlin CET
END:STANDARD
BEGIN:STANDARD
DTSTART:20291028T020000
RDATE:20300331T030000
TZOFFSETFROM:+0200
TZOFFSETTO:+0100
TZNAME:Europe/Berlin CET
END:STANDARD
BEGIN:STANDARD
DTSTART:20301027T020000
RDATE:20310330T030000
TZOFFSETFROM:+0200
TZOFFSETTO:+0100
TZNAME:Europe/Berlin CET
END:STANDARD
BEGIN:STANDARD
DTSTART:20311026T020000
RDATE:20320328T030000
TZOFFSETFROM:+0200
TZOFFSETTO:+0100
TZNAME:Europe/Berlin CET
END:STANDARD
BEGIN:DAYLIGHT
DTSTART:20250330T030000
RDATE:20251026T020000
TZOFFSETFROM:+0100
TZOFFSETTO:+0200
TZNAME:Europe/Berlin CEST
END:DAYLIGHT
BEGIN:DAYLIGHT
DTSTART:20260329T030000
RDATE:20261025T020000
TZOFFSETFROM:+0100
TZOFFSETTO:+0200
TZNAME:Europe/Berlin CEST
END:DAYLIGHT
BEGIN:DAYLIGHT
DTSTART:20270328T030000
RDATE:20271031T020000
TZOFFSETFROM:+0100
TZOFFSETTO:+0200
TZNAME:Europe/Berlin CEST
END:DAYLIGHT
BEGIN:DAYLIGHT
DTSTART:20280326T030000
RDATE:20281029T020000
TZOFFSETFROM:+0100
TZOFFSETTO:+0200
TZNAME:Europe/Berlin CEST
END:DAYLIGHT
BEGIN:DAYLIGHT
DTSTART:20290325T030000
RDATE:20291028T020000
TZOFFSETFROM:+0100
TZOFFSETTO:+0200
TZNAME:Europe/Berlin CEST
END:DAYLIGHT
BEGIN:DAYLIGHT
DTSTART:20300331T030000
RDATE:20301027T020000
TZOFFSETFROM:+0100
TZOFFSETTO:+0200
TZNAME:Europe/Berlin CEST
END:DAYLIGHT
BEGIN:DAYLIGHT
DTSTART:20310330T030000
RDATE:20311026T020000
TZOFFSETFROM:+0100
TZOFFSETTO:+0200
TZNAME:Europe/Berlin CEST
END:DAYLIGHT
END:VTIMEZONE
BEGIN:VEVENT
UID:443efa4c19c579e18b8d7688df0755c7
CATEGORIES:Hüteveranstaltung
CREATED:20240730T104024
SUMMARY:Hüteveranstaltung des CfBrH LG Rheinland
DESCRIPTION:<p>Hüteveranstaltung des CfBrH der LG Rheinland</p><div>Angeboten wird:</di
 v><div>Collecting Style: NHAT, HWT</div><div>Traditional Style: NHAT</div><
 div><span style="-webkit-text-size-adjust: 100%;"></span></div><div><div>De
 r Anmeldung ist eine Kopie der Ahnentafel (FCI) oder Registerbescheinigung 
 (FCI) CfBrH und der Leistungsurkunde beizufügen.</div><div><br />Leistungsu
 rkunden können bei der Leistungsbuchstelle des CfBrH beantragt werden.<br /
 ><span id="cloak8ecdc7618dfb4b2fb72451d0e52a92d9">Diese E-Mail-Adresse ist 
 vor Spambots geschützt! Zur Anzeige muss JavaScript eingeschaltet sein!</sp
 an><script type='text/javascript'>
				document.getElementById('cloak8ecdc7
 618dfb4b2fb72451d0e52a92d9').innerHTML = '';
				var prefix = '&#109;a' + '
 i&#108;' + '&#116;o';
				var path = 'hr' + 'ef' + '=';
				var addy8ecdc76
 18dfb4b2fb72451d0e52a92d9 = 'l&#101;&#105;st&#117;ngsb&#117;ch' + '&#64;';

 				addy8ecdc7618dfb4b2fb72451d0e52a92d9 = addy8ecdc7618dfb4b2fb72451d0e52a
 92d9 + 'cfbrh' + '&#46;' + 'd&#101;';
				var addy_text8ecdc7618dfb4b2fb724
 51d0e52a92d9 = 'l&#101;&#105;st&#117;ngsb&#117;ch' + '&#64;' + 'cfbrh' + '&
 #46;' + 'd&#101;';document.getElementById('cloak8ecdc7618dfb4b2fb72451d0e52
 a92d9').innerHTML += '<a ' + path + '\'' + prefix + ':' + addy8ecdc7618dfb4
 b2fb72451d0e52a92d9 + '\'>'+addy_text8ecdc7618dfb4b2fb72451d0e52a92d9+'<\/a
 >';
		</script></div></div>
DTSTAMP:20260422T151959
DTSTART;TZID=Europe/Berlin;VALUE=DATE:20251109
DTEND;TZID=Europe/Berlin;VALUE=DATE:20251110
SEQUENCE:0
TRANSP:OPAQUE
END:VEVENT
END:VCALENDAR