BEGIN:VCALENDAR
VERSION:2.0
PRODID:-//jEvents 2.0 for Joomla//EN
CALSCALE:GREGORIAN
METHOD:PUBLISH
BEGIN:VTIMEZONE
TZID:Europe/Berlin
BEGIN:STANDARD
DTSTART:20231029T020000
RDATE:20240331T030000
TZOFFSETFROM:+0200
TZOFFSETTO:+0100
TZNAME:Europe/Berlin CET
END:STANDARD
BEGIN:STANDARD
DTSTART:20241027T020000
RDATE:20250330T030000
TZOFFSETFROM:+0200
TZOFFSETTO:+0100
TZNAME:Europe/Berlin CET
END:STANDARD
BEGIN:STANDARD
DTSTART:20251026T020000
RDATE:20260329T030000
TZOFFSETFROM:+0200
TZOFFSETTO:+0100
TZNAME:Europe/Berlin CET
END:STANDARD
BEGIN:STANDARD
DTSTART:20261025T020000
RDATE:20270328T030000
TZOFFSETFROM:+0200
TZOFFSETTO:+0100
TZNAME:Europe/Berlin CET
END:STANDARD
BEGIN:STANDARD
DTSTART:20271031T020000
RDATE:20280326T030000
TZOFFSETFROM:+0200
TZOFFSETTO:+0100
TZNAME:Europe/Berlin CET
END:STANDARD
BEGIN:STANDARD
DTSTART:20281029T020000
RDATE:20290325T030000
TZOFFSETFROM:+0200
TZOFFSETTO:+0100
TZNAME:Europe/Berlin CET
END:STANDARD
BEGIN:STANDARD
DTSTART:20291028T020000
RDATE:20300331T030000
TZOFFSETFROM:+0200
TZOFFSETTO:+0100
TZNAME:Europe/Berlin CET
END:STANDARD
BEGIN:STANDARD
DTSTART:20301027T020000
RDATE:20310330T030000
TZOFFSETFROM:+0200
TZOFFSETTO:+0100
TZNAME:Europe/Berlin CET
END:STANDARD
BEGIN:STANDARD
DTSTART:20311026T020000
RDATE:20320328T030000
TZOFFSETFROM:+0200
TZOFFSETTO:+0100
TZNAME:Europe/Berlin CET
END:STANDARD
BEGIN:DAYLIGHT
DTSTART:20230623T000000
RDATE:20231029T020000
TZOFFSETFROM:+0100
TZOFFSETTO:+0200
TZNAME:Europe/Berlin CEST
END:DAYLIGHT
BEGIN:DAYLIGHT
DTSTART:20240331T030000
RDATE:20241027T020000
TZOFFSETFROM:+0100
TZOFFSETTO:+0200
TZNAME:Europe/Berlin CEST
END:DAYLIGHT
BEGIN:DAYLIGHT
DTSTART:20250330T030000
RDATE:20251026T020000
TZOFFSETFROM:+0100
TZOFFSETTO:+0200
TZNAME:Europe/Berlin CEST
END:DAYLIGHT
BEGIN:DAYLIGHT
DTSTART:20260329T030000
RDATE:20261025T020000
TZOFFSETFROM:+0100
TZOFFSETTO:+0200
TZNAME:Europe/Berlin CEST
END:DAYLIGHT
BEGIN:DAYLIGHT
DTSTART:20270328T030000
RDATE:20271031T020000
TZOFFSETFROM:+0100
TZOFFSETTO:+0200
TZNAME:Europe/Berlin CEST
END:DAYLIGHT
BEGIN:DAYLIGHT
DTSTART:20280326T030000
RDATE:20281029T020000
TZOFFSETFROM:+0100
TZOFFSETTO:+0200
TZNAME:Europe/Berlin CEST
END:DAYLIGHT
BEGIN:DAYLIGHT
DTSTART:20290325T030000
RDATE:20291028T020000
TZOFFSETFROM:+0100
TZOFFSETTO:+0200
TZNAME:Europe/Berlin CEST
END:DAYLIGHT
BEGIN:DAYLIGHT
DTSTART:20300331T030000
RDATE:20301027T020000
TZOFFSETFROM:+0100
TZOFFSETTO:+0200
TZNAME:Europe/Berlin CEST
END:DAYLIGHT
BEGIN:DAYLIGHT
DTSTART:20310330T030000
RDATE:20311026T020000
TZOFFSETFROM:+0100
TZOFFSETTO:+0200
TZNAME:Europe/Berlin CEST
END:DAYLIGHT
END:VTIMEZONE
BEGIN:VEVENT
UID:53ecd27b3b0894523e98a182e0e8bbb4
CATEGORIES:Hüteveranstaltung
CREATED:20240402T194316
SUMMARY:Hüteveranstaltung des CfBrH LG Württemberg
DESCRIPTION:Hüteveranstaltung des CfBrH der LG Württmeberg\nAngeboten wird: \n\nTraditi
 onal Style - IHT 3\nDer Anmeldung ist eine Kopie der Ahnentafel (FCI) oder 
 Registerbescheinigung (FCI) CfBrH und der Leistungsurkunde beizufügen.\nLei
 stungsurkunden können bei der Leistungsbuchstelle des CfBrH beantragt werde
 n.\nDiese E-Mail-Adresse ist vor Spambots geschützt! Zur Anzeige muss JavaS
 cript eingeschaltet sein!
				document.getElementById('cloak871e6860fa9913f
 b477a5528f03f5ec2').innerHTML = '';
				var prefix = '&#109;a' + 'i&#108;' 
 + '&#116;o';
				var path = 'hr' + 'ef' + '=';
				var addy871e6860fa9913fb
 477a5528f03f5ec2 = 'l&#101;&#105;st&#117;ngsb&#117;ch' + '&#64;';
				addy8
 71e6860fa9913fb477a5528f03f5ec2 = addy871e6860fa9913fb477a5528f03f5ec2 + 'c
 fbrh' + '&#46;' + 'd&#101;';
				var addy_text871e6860fa9913fb477a5528f03f5
 ec2 = 'l&#101;&#105;st&#117;ngsb&#117;ch' + '&#64;' + 'cfbrh' + '&#46;' + '
 d&#101;';document.getElementById('cloak871e6860fa9913fb477a5528f03f5ec2').i
 nnerHTML += '<a ' + path + '\'' + prefix + ':' + addy871e6860fa9913fb477a55
 28f03f5ec2 + '\'>'+addy_text871e6860fa9913fb477a5528f03f5ec2+'';
		
X-ALT-DESC;FMTTYPE=text/html:<p>Hüteveranstaltung des CfBrH der LG Württmeberg</p><div>Angeboten wird:&n
 bsp;<br /><br />Traditional Style - IHT 3<br /><span style="-webkit-text-si
 ze-adjust: 100%;"></span></div><div><div>Der Anmeldung ist eine Kopie der A
 hnentafel (FCI) oder Registerbescheinigung (FCI) CfBrH und der Leistungsurk
 unde beizufügen.</div><div><br />Leistungsurkunden können bei der Leistungs
 buchstelle des CfBrH beantragt werden.<br /><span id="cloak871e6860fa9913fb
 477a5528f03f5ec2">Diese E-Mail-Adresse ist vor Spambots geschützt! Zur Anze
 ige muss JavaScript eingeschaltet sein!</span><script type='text/javascript
 '>
				document.getElementById('cloak871e6860fa9913fb477a5528f03f5ec2').inn
 erHTML = '';
				var prefix = '&#109;a' + 'i&#108;' + '&#116;o';
				var pa
 th = 'hr' + 'ef' + '=';
				var addy871e6860fa9913fb477a5528f03f5ec2 = 'l&#
 101;&#105;st&#117;ngsb&#117;ch' + '&#64;';
				addy871e6860fa9913fb477a5528
 f03f5ec2 = addy871e6860fa9913fb477a5528f03f5ec2 + 'cfbrh' + '&#46;' + 'd&#1
 01;';
				var addy_text871e6860fa9913fb477a5528f03f5ec2 = 'l&#101;&#105;st&
 #117;ngsb&#117;ch' + '&#64;' + 'cfbrh' + '&#46;' + 'd&#101;';document.getEl
 ementById('cloak871e6860fa9913fb477a5528f03f5ec2').innerHTML += '<a ' + pat
 h + '\'' + prefix + ':' + addy871e6860fa9913fb477a5528f03f5ec2 + '\'>'+addy
 _text871e6860fa9913fb477a5528f03f5ec2+'<\/a>';
		</script></div></div>
DTSTAMP:20260422T145000
DTSTART;TZID=Europe/Berlin;VALUE=DATE:20240623
DTEND;TZID=Europe/Berlin;VALUE=DATE:20240624
SEQUENCE:0
TRANSP:OPAQUE
END:VEVENT
END:VCALENDAR