BEGIN:VCALENDAR
VERSION:2.0
PRODID:-//jEvents 2.0 for Joomla//EN
CALSCALE:GREGORIAN
METHOD:PUBLISH
BEGIN:VTIMEZONE
TZID:Europe/Berlin
BEGIN:STANDARD
DTSTART:20230302T000000
RDATE:20230326T030000
TZOFFSETFROM:+0200
TZOFFSETTO:+0100
TZNAME:Europe/Berlin CET
END:STANDARD
BEGIN:STANDARD
DTSTART:20231029T020000
RDATE:20240331T030000
TZOFFSETFROM:+0200
TZOFFSETTO:+0100
TZNAME:Europe/Berlin CET
END:STANDARD
BEGIN:STANDARD
DTSTART:20241027T020000
RDATE:20250330T030000
TZOFFSETFROM:+0200
TZOFFSETTO:+0100
TZNAME:Europe/Berlin CET
END:STANDARD
BEGIN:STANDARD
DTSTART:20251026T020000
RDATE:20260329T030000
TZOFFSETFROM:+0200
TZOFFSETTO:+0100
TZNAME:Europe/Berlin CET
END:STANDARD
BEGIN:STANDARD
DTSTART:20261025T020000
RDATE:20270328T030000
TZOFFSETFROM:+0200
TZOFFSETTO:+0100
TZNAME:Europe/Berlin CET
END:STANDARD
BEGIN:STANDARD
DTSTART:20271031T020000
RDATE:20280326T030000
TZOFFSETFROM:+0200
TZOFFSETTO:+0100
TZNAME:Europe/Berlin CET
END:STANDARD
BEGIN:STANDARD
DTSTART:20281029T020000
RDATE:20290325T030000
TZOFFSETFROM:+0200
TZOFFSETTO:+0100
TZNAME:Europe/Berlin CET
END:STANDARD
BEGIN:STANDARD
DTSTART:20291028T020000
RDATE:20300331T030000
TZOFFSETFROM:+0200
TZOFFSETTO:+0100
TZNAME:Europe/Berlin CET
END:STANDARD
BEGIN:STANDARD
DTSTART:20301027T020000
RDATE:20310330T030000
TZOFFSETFROM:+0200
TZOFFSETTO:+0100
TZNAME:Europe/Berlin CET
END:STANDARD
BEGIN:STANDARD
DTSTART:20311026T020000
RDATE:20320328T030000
TZOFFSETFROM:+0200
TZOFFSETTO:+0100
TZNAME:Europe/Berlin CET
END:STANDARD
BEGIN:DAYLIGHT
DTSTART:20230326T030000
RDATE:20231029T020000
TZOFFSETFROM:+0100
TZOFFSETTO:+0200
TZNAME:Europe/Berlin CEST
END:DAYLIGHT
BEGIN:DAYLIGHT
DTSTART:20240331T030000
RDATE:20241027T020000
TZOFFSETFROM:+0100
TZOFFSETTO:+0200
TZNAME:Europe/Berlin CEST
END:DAYLIGHT
BEGIN:DAYLIGHT
DTSTART:20250330T030000
RDATE:20251026T020000
TZOFFSETFROM:+0100
TZOFFSETTO:+0200
TZNAME:Europe/Berlin CEST
END:DAYLIGHT
BEGIN:DAYLIGHT
DTSTART:20260329T030000
RDATE:20261025T020000
TZOFFSETFROM:+0100
TZOFFSETTO:+0200
TZNAME:Europe/Berlin CEST
END:DAYLIGHT
BEGIN:DAYLIGHT
DTSTART:20270328T030000
RDATE:20271031T020000
TZOFFSETFROM:+0100
TZOFFSETTO:+0200
TZNAME:Europe/Berlin CEST
END:DAYLIGHT
BEGIN:DAYLIGHT
DTSTART:20280326T030000
RDATE:20281029T020000
TZOFFSETFROM:+0100
TZOFFSETTO:+0200
TZNAME:Europe/Berlin CEST
END:DAYLIGHT
BEGIN:DAYLIGHT
DTSTART:20290325T030000
RDATE:20291028T020000
TZOFFSETFROM:+0100
TZOFFSETTO:+0200
TZNAME:Europe/Berlin CEST
END:DAYLIGHT
BEGIN:DAYLIGHT
DTSTART:20300331T030000
RDATE:20301027T020000
TZOFFSETFROM:+0100
TZOFFSETTO:+0200
TZNAME:Europe/Berlin CEST
END:DAYLIGHT
BEGIN:DAYLIGHT
DTSTART:20310330T030000
RDATE:20311026T020000
TZOFFSETFROM:+0100
TZOFFSETTO:+0200
TZNAME:Europe/Berlin CEST
END:DAYLIGHT
END:VTIMEZONE
BEGIN:VEVENT
UID:02b0dbdfc669a9ff00aac41051fa7986
CATEGORIES:Hüteveranstaltung
CREATED:20231208T193345
SUMMARY:Hüteveranstaltung des CfBrH LG Württemberg
DESCRIPTION:<p>Hüteveranstaltung des CfBrH der LG Württmeberg</p><div>Angeboten wird:&n
 bsp;<br />Collecting Style - NHAT<br />Traditional Style - NHAT, HWT<br /><
 span style="-webkit-text-size-adjust: 100%;"></span></div><div><div>Der Anm
 eldung ist eine Kopie der Ahnentafel (FCI) oder Registerbescheinigung (FCI)
  CfBrH und der Leistungsurkunde beizufügen.</div><div><br />Leistungsurkund
 en können bei der Leistungsbuchstelle des CfBrH beantragt werden.<br /><spa
 n id="cloak7b5e8e9a3e46f2966d3c31e132b7f221">Diese E-Mail-Adresse ist vor S
 pambots geschützt! Zur Anzeige muss JavaScript eingeschaltet sein!</span><s
 cript type='text/javascript'>
				document.getElementById('cloak7b5e8e9a3e4
 6f2966d3c31e132b7f221').innerHTML = '';
				var prefix = '&#109;a' + 'i&#10
 8;' + '&#116;o';
				var path = 'hr' + 'ef' + '=';
				var addy7b5e8e9a3e46
 f2966d3c31e132b7f221 = 'l&#101;&#105;st&#117;ngsb&#117;ch' + '&#64;';
				a
 ddy7b5e8e9a3e46f2966d3c31e132b7f221 = addy7b5e8e9a3e46f2966d3c31e132b7f221 
 + 'cfbrh' + '&#46;' + 'd&#101;';
				var addy_text7b5e8e9a3e46f2966d3c31e13
 2b7f221 = 'l&#101;&#105;st&#117;ngsb&#117;ch' + '&#64;' + 'cfbrh' + '&#46;'
  + 'd&#101;';document.getElementById('cloak7b5e8e9a3e46f2966d3c31e132b7f221
 ').innerHTML += '<a ' + path + '\'' + prefix + ':' + addy7b5e8e9a3e46f2966d
 3c31e132b7f221 + '\'>'+addy_text7b5e8e9a3e46f2966d3c31e132b7f221+'<\/a>';
	
 	</script></div></div>
DTSTAMP:20260420T154847
DTSTART;TZID=Europe/Berlin;VALUE=DATE:20240302
DTEND;TZID=Europe/Berlin;VALUE=DATE:20240304
SEQUENCE:0
TRANSP:OPAQUE
END:VEVENT
END:VCALENDAR