BEGIN:VCALENDAR
VERSION:2.0
PRODID:-//jEvents 2.0 for Joomla//EN
CALSCALE:GREGORIAN
METHOD:PUBLISH
BEGIN:VTIMEZONE
TZID:Europe/Berlin
BEGIN:STANDARD
DTSTART:20161030T020000
RDATE:20170326T030000
TZOFFSETFROM:+0200
TZOFFSETTO:+0100
TZNAME:Europe/Berlin CET
END:STANDARD
BEGIN:STANDARD
DTSTART:20171029T020000
RDATE:20180325T030000
TZOFFSETFROM:+0200
TZOFFSETTO:+0100
TZNAME:Europe/Berlin CET
END:STANDARD
BEGIN:STANDARD
DTSTART:20181028T020000
RDATE:20190331T030000
TZOFFSETFROM:+0200
TZOFFSETTO:+0100
TZNAME:Europe/Berlin CET
END:STANDARD
BEGIN:STANDARD
DTSTART:20191027T020000
RDATE:20200329T030000
TZOFFSETFROM:+0200
TZOFFSETTO:+0100
TZNAME:Europe/Berlin CET
END:STANDARD
BEGIN:STANDARD
DTSTART:20201025T020000
RDATE:20210328T030000
TZOFFSETFROM:+0200
TZOFFSETTO:+0100
TZNAME:Europe/Berlin CET
END:STANDARD
BEGIN:STANDARD
DTSTART:20211031T020000
RDATE:20220327T030000
TZOFFSETFROM:+0200
TZOFFSETTO:+0100
TZNAME:Europe/Berlin CET
END:STANDARD
BEGIN:STANDARD
DTSTART:20221030T020000
RDATE:20230326T030000
TZOFFSETFROM:+0200
TZOFFSETTO:+0100
TZNAME:Europe/Berlin CET
END:STANDARD
BEGIN:STANDARD
DTSTART:20231029T020000
RDATE:20240331T030000
TZOFFSETFROM:+0200
TZOFFSETTO:+0100
TZNAME:Europe/Berlin CET
END:STANDARD
BEGIN:STANDARD
DTSTART:20241027T020000
RDATE:20250330T030000
TZOFFSETFROM:+0200
TZOFFSETTO:+0100
TZNAME:Europe/Berlin CET
END:STANDARD
BEGIN:STANDARD
DTSTART:20251026T020000
RDATE:20260329T030000
TZOFFSETFROM:+0200
TZOFFSETTO:+0100
TZNAME:Europe/Berlin CET
END:STANDARD
BEGIN:STANDARD
DTSTART:20261025T020000
RDATE:20270328T030000
TZOFFSETFROM:+0200
TZOFFSETTO:+0100
TZNAME:Europe/Berlin CET
END:STANDARD
BEGIN:STANDARD
DTSTART:20271031T020000
RDATE:20280326T030000
TZOFFSETFROM:+0200
TZOFFSETTO:+0100
TZNAME:Europe/Berlin CET
END:STANDARD
BEGIN:STANDARD
DTSTART:20281029T020000
RDATE:20290325T030000
TZOFFSETFROM:+0200
TZOFFSETTO:+0100
TZNAME:Europe/Berlin CET
END:STANDARD
BEGIN:STANDARD
DTSTART:20291028T020000
RDATE:20300331T030000
TZOFFSETFROM:+0200
TZOFFSETTO:+0100
TZNAME:Europe/Berlin CET
END:STANDARD
BEGIN:STANDARD
DTSTART:20301027T020000
RDATE:20310330T030000
TZOFFSETFROM:+0200
TZOFFSETTO:+0100
TZNAME:Europe/Berlin CET
END:STANDARD
BEGIN:STANDARD
DTSTART:20311026T020000
RDATE:20320328T030000
TZOFFSETFROM:+0200
TZOFFSETTO:+0100
TZNAME:Europe/Berlin CET
END:STANDARD
BEGIN:DAYLIGHT
DTSTART:20160930T100000
RDATE:20161030T020000
TZOFFSETFROM:+0100
TZOFFSETTO:+0200
TZNAME:Europe/Berlin CEST
END:DAYLIGHT
BEGIN:DAYLIGHT
DTSTART:20170326T030000
RDATE:20171029T020000
TZOFFSETFROM:+0100
TZOFFSETTO:+0200
TZNAME:Europe/Berlin CEST
END:DAYLIGHT
BEGIN:DAYLIGHT
DTSTART:20180325T030000
RDATE:20181028T020000
TZOFFSETFROM:+0100
TZOFFSETTO:+0200
TZNAME:Europe/Berlin CEST
END:DAYLIGHT
BEGIN:DAYLIGHT
DTSTART:20190331T030000
RDATE:20191027T020000
TZOFFSETFROM:+0100
TZOFFSETTO:+0200
TZNAME:Europe/Berlin CEST
END:DAYLIGHT
BEGIN:DAYLIGHT
DTSTART:20200329T030000
RDATE:20201025T020000
TZOFFSETFROM:+0100
TZOFFSETTO:+0200
TZNAME:Europe/Berlin CEST
END:DAYLIGHT
BEGIN:DAYLIGHT
DTSTART:20210328T030000
RDATE:20211031T020000
TZOFFSETFROM:+0100
TZOFFSETTO:+0200
TZNAME:Europe/Berlin CEST
END:DAYLIGHT
BEGIN:DAYLIGHT
DTSTART:20220327T030000
RDATE:20221030T020000
TZOFFSETFROM:+0100
TZOFFSETTO:+0200
TZNAME:Europe/Berlin CEST
END:DAYLIGHT
BEGIN:DAYLIGHT
DTSTART:20230326T030000
RDATE:20231029T020000
TZOFFSETFROM:+0100
TZOFFSETTO:+0200
TZNAME:Europe/Berlin CEST
END:DAYLIGHT
BEGIN:DAYLIGHT
DTSTART:20240331T030000
RDATE:20241027T020000
TZOFFSETFROM:+0100
TZOFFSETTO:+0200
TZNAME:Europe/Berlin CEST
END:DAYLIGHT
BEGIN:DAYLIGHT
DTSTART:20250330T030000
RDATE:20251026T020000
TZOFFSETFROM:+0100
TZOFFSETTO:+0200
TZNAME:Europe/Berlin CEST
END:DAYLIGHT
BEGIN:DAYLIGHT
DTSTART:20260329T030000
RDATE:20261025T020000
TZOFFSETFROM:+0100
TZOFFSETTO:+0200
TZNAME:Europe/Berlin CEST
END:DAYLIGHT
BEGIN:DAYLIGHT
DTSTART:20270328T030000
RDATE:20271031T020000
TZOFFSETFROM:+0100
TZOFFSETTO:+0200
TZNAME:Europe/Berlin CEST
END:DAYLIGHT
BEGIN:DAYLIGHT
DTSTART:20280326T030000
RDATE:20281029T020000
TZOFFSETFROM:+0100
TZOFFSETTO:+0200
TZNAME:Europe/Berlin CEST
END:DAYLIGHT
BEGIN:DAYLIGHT
DTSTART:20290325T030000
RDATE:20291028T020000
TZOFFSETFROM:+0100
TZOFFSETTO:+0200
TZNAME:Europe/Berlin CEST
END:DAYLIGHT
BEGIN:DAYLIGHT
DTSTART:20300331T030000
RDATE:20301027T020000
TZOFFSETFROM:+0100
TZOFFSETTO:+0200
TZNAME:Europe/Berlin CEST
END:DAYLIGHT
BEGIN:DAYLIGHT
DTSTART:20310330T030000
RDATE:20311026T020000
TZOFFSETFROM:+0100
TZOFFSETTO:+0200
TZNAME:Europe/Berlin CEST
END:DAYLIGHT
END:VTIMEZONE
BEGIN:VEVENT
UID:544542a4ac82bfb497739bdbc89d43da
CATEGORIES:Züchtertagung
CREATED:20170801T102713
SUMMARY:Züchtertagung Border Collie
DESCRIPTION:Tagungsordung - Züchtertagung Border Collie\n \n\n - Beginn und Begrüßung u
 m 10 Uhr\n \n - Wahl des Protokollführers wenn nötig\n (Die Protokollführun
 g übernimmt die stv. Rassebetreuerin)\n - ca 10:30 bis 12 Uhr\n Vortrag: Dr
 . Alexander Koch von der Tierklinik OerzenThemenschwerpunkt\n\n - Hüftgelen
 ksdysplasie (HD) und die Relevanz in der Zucht\n - Kriterien für die Auswer
 tung bzw. Einstufung\n - Der richtige Zeitpunkt für die Untersuchung\n - Pe
 nnHIP Verfahren - Ist es eine Alternative? \nWeitere Themen je nach verfügb
 arer Zeit\n\n - Ellbogendysplasie (ED)\n - Osteochondrose (OCD)\n - Lumbosa
 krale Übergangswirbel, Relevanz in der Zucht und Auswirkungen auf den betro
 ffenen Hund  \n\n - Mittagspause ca 12 Uhr\n \n - ca 13:00 bis 14:00\n Vort
 rag: Diplom- und Molekularbiologin Bärbel Gunreben (Laboklin GmbH &amp; Co.
  KG)Themenschwerpunkt\n\n - Grundlagen der Vererbung\n - Verfügbare DNA Tes
 ts für den Border Collie\n - Statistisches Zahlenmaterial über bereits durc
 hgeführte Tests\n - daraus resultierende Relevanz in der Zucht\n - Kurzer B
 ericht des Rassebetreuers\n - Erläuterung bzw. Infos zu allen zuchtrelevant
 en Änderungen bei den Border Collies\n seit der HV im April 2017\n - Festst
 ellung der Stimmberechtigten Züchter, sofern es Anträge gibt\n (Zwingerschu
 tzkarte nicht vergessen)\n - Behandlung eingegangener Anträge\n - Verschied
 enes\n - Ende ca. 16:00
X-ALT-DESC;FMTTYPE=text/html:<p><b>Tagungsordung - Züchtertagung Border Collie</b></p><p>&nbsp;</p><ul><
 li><b>Beginn und Begrüßung um 10 Uhr<br /> </b></li><li>Wahl des Protokollf
 ührers wenn nötig<br /> (Die Protokollführung übernimmt die stv. Rassebetre
 uerin)</li><li><b>ca 10:30 bis 12 Uhr<br /> </b>Vortrag: Dr. Alexander Koch
  von der Tierklinik Oerzen</li></ul><p>Themenschwerpunkt</p><ul><ul><ul><li
 >Hüftgelenksdysplasie (HD) und die Relevanz in der Zucht</li><li>Kriterien 
 für die Auswertung bzw. Einstufung</li><li>Der richtige Zeitpunkt für die U
 ntersuchung</li><li>PennHIP Verfahren - Ist es eine Alternative?</li></ul><
 /ul></ul><p>&nbsp;</p><p>Weitere Themen je nach verfügbarer Zeit</p><ul><ul
 ><ul><li>Ellbogendysplasie (ED)</li><li>Osteochondrose (OCD)</li><li>Lumbos
 akrale Übergangswirbel,&nbsp;Relevanz in der Zucht und Auswirkungen auf den
  betroffenen Hund&nbsp;</li></ul></ul></ul><p>&nbsp;</p><ul><li><b>Mittagsp
 ause ca 12 Uhr<br /> </b></li><li><b>ca 13:00 bis 14:00</b><br /> Vortrag: 
 Diplom- und Molekularbiologin Bärbel Gunreben (Laboklin GmbH &amp; Co. KG)<
 /li></ul><p>Themenschwerpunkt</p><ul><ul><ul><li>Grundlagen der Vererbung</
 li><li>Verfügbare DNA Tests für den Border Collie</li><li>Statistisches Zah
 lenmaterial über bereits durchgeführte Tests</li><li>daraus resultierende R
 elevanz in der Zucht</li></ul></ul></ul><ul><li>Kurzer Bericht des Rassebet
 reuers</li><li>Erläuterung bzw. Infos zu allen zuchtrelevanten Änderungen b
 ei den Border Collies<br /> seit der HV im April 2017</li><li>Feststellung 
 der Stimmberechtigten Züchter, sofern es Anträge gibt<br /> (Zwingerschutzk
 arte nicht vergessen)</li><li>Behandlung eingegangener Anträge</li><li>Vers
 chiedenes</li><li>Ende ca. 16:00</li></ul>
DTSTAMP:20260420T173108
DTSTART;TZID=Europe/Berlin:20171001T100000
DTEND;TZID=Europe/Berlin:20171001T170000
SEQUENCE:0
TRANSP:OPAQUE
END:VEVENT
END:VCALENDAR