BEGIN:VCALENDAR
VERSION:2.0
PRODID:-//jEvents 2.0 for Joomla//EN
CALSCALE:GREGORIAN
METHOD:PUBLISH
BEGIN:VTIMEZONE
TZID:Europe/Berlin
BEGIN:STANDARD
DTSTART:20221123T000000
RDATE:20230326T030000
TZOFFSETFROM:+0200
TZOFFSETTO:+0100
TZNAME:Europe/Berlin CET
END:STANDARD
BEGIN:STANDARD
DTSTART:20231029T020000
RDATE:20240331T030000
TZOFFSETFROM:+0200
TZOFFSETTO:+0100
TZNAME:Europe/Berlin CET
END:STANDARD
BEGIN:STANDARD
DTSTART:20241027T020000
RDATE:20250330T030000
TZOFFSETFROM:+0200
TZOFFSETTO:+0100
TZNAME:Europe/Berlin CET
END:STANDARD
BEGIN:STANDARD
DTSTART:20251026T020000
RDATE:20260329T030000
TZOFFSETFROM:+0200
TZOFFSETTO:+0100
TZNAME:Europe/Berlin CET
END:STANDARD
BEGIN:STANDARD
DTSTART:20261025T020000
RDATE:20270328T030000
TZOFFSETFROM:+0200
TZOFFSETTO:+0100
TZNAME:Europe/Berlin CET
END:STANDARD
BEGIN:STANDARD
DTSTART:20271031T020000
RDATE:20280326T030000
TZOFFSETFROM:+0200
TZOFFSETTO:+0100
TZNAME:Europe/Berlin CET
END:STANDARD
BEGIN:STANDARD
DTSTART:20281029T020000
RDATE:20290325T030000
TZOFFSETFROM:+0200
TZOFFSETTO:+0100
TZNAME:Europe/Berlin CET
END:STANDARD
BEGIN:STANDARD
DTSTART:20291028T020000
RDATE:20300331T030000
TZOFFSETFROM:+0200
TZOFFSETTO:+0100
TZNAME:Europe/Berlin CET
END:STANDARD
BEGIN:STANDARD
DTSTART:20301027T020000
RDATE:20310330T030000
TZOFFSETFROM:+0200
TZOFFSETTO:+0100
TZNAME:Europe/Berlin CET
END:STANDARD
BEGIN:STANDARD
DTSTART:20311026T020000
RDATE:20320328T030000
TZOFFSETFROM:+0200
TZOFFSETTO:+0100
TZNAME:Europe/Berlin CET
END:STANDARD
BEGIN:DAYLIGHT
DTSTART:20230326T030000
RDATE:20231029T020000
TZOFFSETFROM:+0100
TZOFFSETTO:+0200
TZNAME:Europe/Berlin CEST
END:DAYLIGHT
BEGIN:DAYLIGHT
DTSTART:20240331T030000
RDATE:20241027T020000
TZOFFSETFROM:+0100
TZOFFSETTO:+0200
TZNAME:Europe/Berlin CEST
END:DAYLIGHT
BEGIN:DAYLIGHT
DTSTART:20250330T030000
RDATE:20251026T020000
TZOFFSETFROM:+0100
TZOFFSETTO:+0200
TZNAME:Europe/Berlin CEST
END:DAYLIGHT
BEGIN:DAYLIGHT
DTSTART:20260329T030000
RDATE:20261025T020000
TZOFFSETFROM:+0100
TZOFFSETTO:+0200
TZNAME:Europe/Berlin CEST
END:DAYLIGHT
BEGIN:DAYLIGHT
DTSTART:20270328T030000
RDATE:20271031T020000
TZOFFSETFROM:+0100
TZOFFSETTO:+0200
TZNAME:Europe/Berlin CEST
END:DAYLIGHT
BEGIN:DAYLIGHT
DTSTART:20280326T030000
RDATE:20281029T020000
TZOFFSETFROM:+0100
TZOFFSETTO:+0200
TZNAME:Europe/Berlin CEST
END:DAYLIGHT
BEGIN:DAYLIGHT
DTSTART:20290325T030000
RDATE:20291028T020000
TZOFFSETFROM:+0100
TZOFFSETTO:+0200
TZNAME:Europe/Berlin CEST
END:DAYLIGHT
BEGIN:DAYLIGHT
DTSTART:20300331T030000
RDATE:20301027T020000
TZOFFSETFROM:+0100
TZOFFSETTO:+0200
TZNAME:Europe/Berlin CEST
END:DAYLIGHT
BEGIN:DAYLIGHT
DTSTART:20310330T030000
RDATE:20311026T020000
TZOFFSETFROM:+0100
TZOFFSETTO:+0200
TZNAME:Europe/Berlin CEST
END:DAYLIGHT
END:VTIMEZONE
BEGIN:VEVENT
UID:1ab8a1cacc3590ac309042bfa250e706
CATEGORIES:Hüteveranstaltung
CREATED:20230831T165944
SUMMARY:Hüteveranstaltung des CfBrH LG Rheinland
DESCRIPTION:<p>Hüteveranstaltung des CfBrH der LG Rheinland</p><div>Angeboten wird:</di
 v><div>Collecting Style: HWT</div><div><span style="-webkit-text-size-adjus
 t: 100%;"></span></div><div><div>Der Anmeldung ist eine Kopie der Ahnentafe
 l (FCI) oder Registerbescheinigung (FCI) CfBrH und der Leistungsurkunde bei
 zufügen.</div><div><br />Leistungsurkunden können bei der Leistungsbuchstel
 le des CfBrH beantragt werden.<br /><span id="cloak31761b4a4fc8984acc21f690
 7cd38b33">Diese E-Mail-Adresse ist vor Spambots geschützt! Zur Anzeige muss
  JavaScript eingeschaltet sein!</span><script type='text/javascript'>
				d
 ocument.getElementById('cloak31761b4a4fc8984acc21f6907cd38b33').innerHTML =
  '';
				var prefix = '&#109;a' + 'i&#108;' + '&#116;o';
				var path = 'hr
 ' + 'ef' + '=';
				var addy31761b4a4fc8984acc21f6907cd38b33 = 'l&#101;&#10
 5;st&#117;ngsb&#117;ch' + '&#64;';
				addy31761b4a4fc8984acc21f6907cd38b33
  = addy31761b4a4fc8984acc21f6907cd38b33 + 'cfbrh' + '&#46;' + 'd&#101;';
		
 		var addy_text31761b4a4fc8984acc21f6907cd38b33 = 'l&#101;&#105;st&#117;ngs
 b&#117;ch' + '&#64;' + 'cfbrh' + '&#46;' + 'd&#101;';document.getElementByI
 d('cloak31761b4a4fc8984acc21f6907cd38b33').innerHTML += '<a ' + path + '\''
  + prefix + ':' + addy31761b4a4fc8984acc21f6907cd38b33 + '\'>'+addy_text317
 61b4a4fc8984acc21f6907cd38b33+'<\/a>';
		</script></div></div>
DTSTAMP:20260422T085842
DTSTART;TZID=Europe/Berlin;VALUE=DATE:20231124
DTEND;TZID=Europe/Berlin;VALUE=DATE:20231125
SEQUENCE:0
TRANSP:OPAQUE
END:VEVENT
END:VCALENDAR