BEGIN:VCALENDAR
VERSION:2.0
PRODID:-//jEvents 2.0 for Joomla//EN
CALSCALE:GREGORIAN
METHOD:PUBLISH
BEGIN:VTIMEZONE
TZID:Europe/Berlin
BEGIN:STANDARD
DTSTART:20211125T000000
RDATE:20220327T030000
TZOFFSETFROM:+0200
TZOFFSETTO:+0100
TZNAME:Europe/Berlin CET
END:STANDARD
BEGIN:STANDARD
DTSTART:20221030T020000
RDATE:20230326T030000
TZOFFSETFROM:+0200
TZOFFSETTO:+0100
TZNAME:Europe/Berlin CET
END:STANDARD
BEGIN:STANDARD
DTSTART:20231029T020000
RDATE:20240331T030000
TZOFFSETFROM:+0200
TZOFFSETTO:+0100
TZNAME:Europe/Berlin CET
END:STANDARD
BEGIN:STANDARD
DTSTART:20241027T020000
RDATE:20250330T030000
TZOFFSETFROM:+0200
TZOFFSETTO:+0100
TZNAME:Europe/Berlin CET
END:STANDARD
BEGIN:STANDARD
DTSTART:20251026T020000
RDATE:20260329T030000
TZOFFSETFROM:+0200
TZOFFSETTO:+0100
TZNAME:Europe/Berlin CET
END:STANDARD
BEGIN:STANDARD
DTSTART:20261025T020000
RDATE:20270328T030000
TZOFFSETFROM:+0200
TZOFFSETTO:+0100
TZNAME:Europe/Berlin CET
END:STANDARD
BEGIN:STANDARD
DTSTART:20271031T020000
RDATE:20280326T030000
TZOFFSETFROM:+0200
TZOFFSETTO:+0100
TZNAME:Europe/Berlin CET
END:STANDARD
BEGIN:STANDARD
DTSTART:20281029T020000
RDATE:20290325T030000
TZOFFSETFROM:+0200
TZOFFSETTO:+0100
TZNAME:Europe/Berlin CET
END:STANDARD
BEGIN:STANDARD
DTSTART:20291028T020000
RDATE:20300331T030000
TZOFFSETFROM:+0200
TZOFFSETTO:+0100
TZNAME:Europe/Berlin CET
END:STANDARD
BEGIN:STANDARD
DTSTART:20301027T020000
RDATE:20310330T030000
TZOFFSETFROM:+0200
TZOFFSETTO:+0100
TZNAME:Europe/Berlin CET
END:STANDARD
BEGIN:STANDARD
DTSTART:20311026T020000
RDATE:20320328T030000
TZOFFSETFROM:+0200
TZOFFSETTO:+0100
TZNAME:Europe/Berlin CET
END:STANDARD
BEGIN:DAYLIGHT
DTSTART:20220327T030000
RDATE:20221030T020000
TZOFFSETFROM:+0100
TZOFFSETTO:+0200
TZNAME:Europe/Berlin CEST
END:DAYLIGHT
BEGIN:DAYLIGHT
DTSTART:20230326T030000
RDATE:20231029T020000
TZOFFSETFROM:+0100
TZOFFSETTO:+0200
TZNAME:Europe/Berlin CEST
END:DAYLIGHT
BEGIN:DAYLIGHT
DTSTART:20240331T030000
RDATE:20241027T020000
TZOFFSETFROM:+0100
TZOFFSETTO:+0200
TZNAME:Europe/Berlin CEST
END:DAYLIGHT
BEGIN:DAYLIGHT
DTSTART:20250330T030000
RDATE:20251026T020000
TZOFFSETFROM:+0100
TZOFFSETTO:+0200
TZNAME:Europe/Berlin CEST
END:DAYLIGHT
BEGIN:DAYLIGHT
DTSTART:20260329T030000
RDATE:20261025T020000
TZOFFSETFROM:+0100
TZOFFSETTO:+0200
TZNAME:Europe/Berlin CEST
END:DAYLIGHT
BEGIN:DAYLIGHT
DTSTART:20270328T030000
RDATE:20271031T020000
TZOFFSETFROM:+0100
TZOFFSETTO:+0200
TZNAME:Europe/Berlin CEST
END:DAYLIGHT
BEGIN:DAYLIGHT
DTSTART:20280326T030000
RDATE:20281029T020000
TZOFFSETFROM:+0100
TZOFFSETTO:+0200
TZNAME:Europe/Berlin CEST
END:DAYLIGHT
BEGIN:DAYLIGHT
DTSTART:20290325T030000
RDATE:20291028T020000
TZOFFSETFROM:+0100
TZOFFSETTO:+0200
TZNAME:Europe/Berlin CEST
END:DAYLIGHT
BEGIN:DAYLIGHT
DTSTART:20300331T030000
RDATE:20301027T020000
TZOFFSETFROM:+0100
TZOFFSETTO:+0200
TZNAME:Europe/Berlin CEST
END:DAYLIGHT
BEGIN:DAYLIGHT
DTSTART:20310330T030000
RDATE:20311026T020000
TZOFFSETFROM:+0100
TZOFFSETTO:+0200
TZNAME:Europe/Berlin CEST
END:DAYLIGHT
END:VTIMEZONE
BEGIN:VEVENT
UID:a974dfa7b8605c848ef54fff17614e50
CATEGORIES:Züchtertagung
CREATED:20220827T102828
SUMMARY:Züchtertagung Bobtail
DESCRIPTION:Wir laden hiermit alle Züchter und auch Gäste zur Züchtertagung am 26.11.20
 22 ins Hotel Waldschlösschen nach Coswig/OT Klieken ein.\nTagesordnung Züch
 tertagung 26.11.2022\n\n - Begrüßung\n\n - Genehmigung der Tagesordnung\n\n
  - Vortrag\n\n - Bericht des Rassebetreuers\n\n - Feststellung der wahlbere
 chtigten Züchter\n\n - Benennung eines Wahlleiters\n- Entlastung des bisher
 igen Rassebetreuers und seines Stellvertreters\n- Abstimmung über Wahlverfa
 hren – offene oder geheime Wahl\n- Vorstellung der sich zur Wahl stellenden
  Kandidaten\n\n - Wahl des Rassebetreuers\n\n - Wahl des stellvertretenden 
 Rassebetreuers\n\n - Feststellung der Stimmberechtigung für vorliegende Ant
 räge\n\n - Diskussion über die eingegangenen Anträge\n\n - Abstimmung über 
 Anträge zur HV\n\n - Verschiedenes\n \nAnträge für die Züchtertagung bitten
  wir form- und fristgerecht bis zum 31.10.2022 unter der bekannten E-Mail-A
 dresse Diese E-Mail-Adresse ist vor Spambots geschützt! Zur Anzeige muss Ja
 vaScript eingeschaltet sein!
				document.getElementById('cloak1f6033cef930
 2a207b872c85dcbeeab1').innerHTML = '';
				var prefix = '&#109;a' + 'i&#108
 ;' + '&#116;o';
				var path = 'hr' + 'ef' + '=';
				var addy1f6033cef9302
 a207b872c85dcbeeab1 = 'b&#111;bt&#97;&#105;l' + '&#64;';
				addy1f6033cef9
 302a207b872c85dcbeeab1 = addy1f6033cef9302a207b872c85dcbeeab1 + 'cfbrh' + '
 &#46;' + 'd&#101;';
				var addy_text1f6033cef9302a207b872c85dcbeeab1 = 'b&
 #111;bt&#97;&#105;l' + '&#64;' + 'cfbrh' + '&#46;' + 'd&#101;';document.get
 ElementById('cloak1f6033cef9302a207b872c85dcbeeab1').innerHTML += '<a ' + p
 ath + '\'' + prefix + ':' + addy1f6033cef9302a207b872c85dcbeeab1 + '\'>'+ad
 dy_text1f6033cef9302a207b872c85dcbeeab1+'';
		 einzureichen Das Voraussetzu
 ngen für die Teilnahme an der Tagung bleiben auch hier bestehen.\n \n\n - N
 ur schriftlich angemeldete Personen können an der Tagung teilnehmen. (Anmel
 dung an: Diese E-Mail-Adresse ist vor Spambots geschützt! Zur Anzeige muss 
 JavaScript eingeschaltet sein!
				document.getElementById('cloak9badd0e50f
 6b2b7656f4b7d09e1074cc').innerHTML = '';
				var prefix = '&#109;a' + 'i&#1
 08;' + '&#116;o';
				var path = 'hr' + 'ef' + '=';
				var addy9badd0e50f6
 b2b7656f4b7d09e1074cc = 'b&#111;bt&#97;&#105;l' + '&#64;';
				addy9badd0e5
 0f6b2b7656f4b7d09e1074cc = addy9badd0e50f6b2b7656f4b7d09e1074cc + 'cfbrh' +
  '&#46;' + 'd&#101;';
				var addy_text9badd0e50f6b2b7656f4b7d09e1074cc = '
 b&#111;bt&#97;&#105;l' + '&#64;' + 'cfbrh' + '&#46;' + 'd&#101;';document.g
 etElementById('cloak9badd0e50f6b2b7656f4b7d09e1074cc').innerHTML += '<a ' +
  path + '\'' + prefix + ':' + addy9badd0e50f6b2b7656f4b7d09e1074cc + '\'>'+
 addy_text9badd0e50f6b2b7656f4b7d09e1074cc+'';
		)\n - Für die Teilnahme ist
  eine Zahlung einer Tagungspauschale von € 21,00 pro Person zu entrichten. 
 (Kontodaten werden nach Anmeldung per Mail übermittelt)\n - Der Zahlungsein
 gang und somit die verbindliche Reservierung der Teilnahme muss bis zum 31.
 10.2022 erfolgt sein.\n - In der Tagungspauschale enthalten sind folgende L
 eistungen:\n- vormittags eine Kaffeepause mit 2 Tassen Kaffee/Tee\n- Mittag
 essen mit 3-Gang-Menü, 3 Hauptgänge zur Auswahl\n- nachmittags eine Kaffeep
 ause mit 2 Tassen Kaffee/Tee sowie Gebäck\n- Bereitstellung des Seminarraum
 es\n- Nutzung der vorhandenen Tagungstechnik (Overhead-Projektor, Leinwand,
  Flip-Chart, Pinnwände, DVD Player, Fernseher, Dia-Projektor, Rednerpult u.
 a.)\n - Erst bei Zahlungseingang erfolgt eine Bestätigung der Teilnahme per
  Mail.\n - Gäste ohne Bezahlung bzw. Anmeldung können nicht an der Tagung t
 eilnehmen.\n - Es wird darum gebeten, die Fellnasen möglichst nicht mit zur
  Veranstaltung zu bringen. Es ist nur eine kleine Anzahl von Hunden gestatt
 et, so dass um Voranmeldung gebeten wird. Gleiches gilt für Übernachtungen.
X-ALT-DESC;FMTTYPE=text/html:<p>Wir laden hiermit alle Züchter und auch Gäste zur Züchtertagung am 26.11
 .2022 ins Hotel Waldschlösschen nach Coswig/OT Klieken ein.</p><p>Tagesordn
 ung Züchtertagung 26.11.2022</p><ol><li><p>Begrüßung</p></li><li><p>Genehmi
 gung der Tagesordnung</p></li><li><p>Vortrag</p></li><li><p>Bericht des Ras
 sebetreuers</p></li><li><p>Feststellung der wahlberechtigten Züchter</p></l
 i><li><p>Benennung eines Wahlleiters</p><p>- Entlastung des bisherigen Rass
 ebetreuers und seines Stellvertreters</p><p>- Abstimmung über Wahlverfahren
  – offene oder geheime Wahl</p><p>- Vorstellung der sich zur Wahl stellende
 n Kandidaten</p></li><li><p>Wahl des Rassebetreuers</p></li><li><p>Wahl des
  stellvertretenden Rassebetreuers</p></li><li><p>Feststellung der Stimmbere
 chtigung für vorliegende Anträge</p></li><li><p>Diskussion über die eingega
 ngenen Anträge</p></li><li><p>Abstimmung über Anträge zur HV</p></li><li><p
 >Verschiedenes</p></li></ol><p>&nbsp;</p><p>Anträge für die Züchtertagung b
 itten wir form- und fristgerecht bis zum 31.10.2022 unter der bekannten E-M
 ail-Adresse <span id="cloak1f6033cef9302a207b872c85dcbeeab1">Diese E-Mail-A
 dresse ist vor Spambots geschützt! Zur Anzeige muss JavaScript eingeschalte
 t sein!</span><script type='text/javascript'>
				document.getElementById('
 cloak1f6033cef9302a207b872c85dcbeeab1').innerHTML = '';
				var prefix = '&
 #109;a' + 'i&#108;' + '&#116;o';
				var path = 'hr' + 'ef' + '=';
				var 
 addy1f6033cef9302a207b872c85dcbeeab1 = 'b&#111;bt&#97;&#105;l' + '&#64;';
	
 			addy1f6033cef9302a207b872c85dcbeeab1 = addy1f6033cef9302a207b872c85dcbee
 ab1 + 'cfbrh' + '&#46;' + 'd&#101;';
				var addy_text1f6033cef9302a207b872
 c85dcbeeab1 = 'b&#111;bt&#97;&#105;l' + '&#64;' + 'cfbrh' + '&#46;' + 'd&#1
 01;';document.getElementById('cloak1f6033cef9302a207b872c85dcbeeab1').inner
 HTML += '<a ' + path + '\'' + prefix + ':' + addy1f6033cef9302a207b872c85dc
 beeab1 + '\'>'+addy_text1f6033cef9302a207b872c85dcbeeab1+'<\/a>';
		</scrip
 t> einzureichen Das Voraussetzungen für die Teilnahme an der Tagung bleiben
  auch hier bestehen.</p><p>&nbsp;</p><ul><li>Nur schriftlich angemeldete Pe
 rsonen können an der Tagung teilnehmen. (Anmeldung an: <span id="cloak9badd
 0e50f6b2b7656f4b7d09e1074cc">Diese E-Mail-Adresse ist vor Spambots geschütz
 t! Zur Anzeige muss JavaScript eingeschaltet sein!</span><script type='text
 /javascript'>
				document.getElementById('cloak9badd0e50f6b2b7656f4b7d09e1
 074cc').innerHTML = '';
				var prefix = '&#109;a' + 'i&#108;' + '&#116;o';
 
				var path = 'hr' + 'ef' + '=';
				var addy9badd0e50f6b2b7656f4b7d09e10
 74cc = 'b&#111;bt&#97;&#105;l' + '&#64;';
				addy9badd0e50f6b2b7656f4b7d09
 e1074cc = addy9badd0e50f6b2b7656f4b7d09e1074cc + 'cfbrh' + '&#46;' + 'd&#10
 1;';
				var addy_text9badd0e50f6b2b7656f4b7d09e1074cc = 'b&#111;bt&#97;&#1
 05;l' + '&#64;' + 'cfbrh' + '&#46;' + 'd&#101;';document.getElementById('cl
 oak9badd0e50f6b2b7656f4b7d09e1074cc').innerHTML += '<a ' + path + '\'' + pr
 efix + ':' + addy9badd0e50f6b2b7656f4b7d09e1074cc + '\'>'+addy_text9badd0e5
 0f6b2b7656f4b7d09e1074cc+'<\/a>';
		</script>)</li><li>Für die Teilnahme is
 t eine Zahlung einer Tagungspauschale von € 21,00 pro Person zu entrichten.
  (Kontodaten werden nach Anmeldung per Mail übermittelt)</li><li>Der Zahlun
 gseingang und somit die verbindliche Reservierung der Teilnahme muss bis zu
 m 31.10.2022 erfolgt sein.</li><li>In der Tagungspauschale enthalten sind f
 olgende Leistungen:<br />- vormittags eine Kaffeepause mit 2 Tassen Kaffee/
 Tee<br />- Mittagessen mit 3-Gang-Menü, 3 Hauptgänge zur Auswahl<br />- nac
 hmittags eine Kaffeepause mit 2 Tassen Kaffee/Tee sowie Gebäck<br />- Berei
 tstellung des Seminarraumes<br />- Nutzung der vorhandenen Tagungstechnik (
 Overhead-Projektor, Leinwand, Flip-Chart, Pinnwände, DVD Player, Fernseher,
  Dia-Projektor, Rednerpult u.a.)</li><li>Erst bei Zahlungseingang erfolgt e
 ine Bestätigung der Teilnahme per Mail.</li><li>Gäste ohne Bezahlung bzw. A
 nmeldung können nicht an der Tagung teilnehmen.</li><li>Es wird darum gebet
 en, die Fellnasen möglichst nicht mit zur Veranstaltung zu bringen. Es ist 
 nur eine kleine Anzahl von Hunden gestattet, so dass um Voranmeldung gebete
 n wird. Gleiches gilt für Übernachtungen.</li></ul>
DTSTAMP:20260420T141539
DTSTART;TZID=Europe/Berlin;VALUE=DATE:20221126
DTEND;TZID=Europe/Berlin;VALUE=DATE:20221127
SEQUENCE:0
TRANSP:OPAQUE
END:VEVENT
END:VCALENDAR