BEGIN:VCALENDAR
VERSION:2.0
PRODID:-//jEvents 2.0 for Joomla//EN
CALSCALE:GREGORIAN
METHOD:PUBLISH
BEGIN:VTIMEZONE
TZID:Europe/Berlin
BEGIN:STANDARD
DTSTART:20211031T020000
RDATE:20220327T030000
TZOFFSETFROM:+0200
TZOFFSETTO:+0100
TZNAME:Europe/Berlin CET
END:STANDARD
BEGIN:STANDARD
DTSTART:20221030T020000
RDATE:20230326T030000
TZOFFSETFROM:+0200
TZOFFSETTO:+0100
TZNAME:Europe/Berlin CET
END:STANDARD
BEGIN:STANDARD
DTSTART:20231029T020000
RDATE:20240331T030000
TZOFFSETFROM:+0200
TZOFFSETTO:+0100
TZNAME:Europe/Berlin CET
END:STANDARD
BEGIN:STANDARD
DTSTART:20241027T020000
RDATE:20250330T030000
TZOFFSETFROM:+0200
TZOFFSETTO:+0100
TZNAME:Europe/Berlin CET
END:STANDARD
BEGIN:STANDARD
DTSTART:20251026T020000
RDATE:20260329T030000
TZOFFSETFROM:+0200
TZOFFSETTO:+0100
TZNAME:Europe/Berlin CET
END:STANDARD
BEGIN:STANDARD
DTSTART:20261025T020000
RDATE:20270328T030000
TZOFFSETFROM:+0200
TZOFFSETTO:+0100
TZNAME:Europe/Berlin CET
END:STANDARD
BEGIN:STANDARD
DTSTART:20271031T020000
RDATE:20280326T030000
TZOFFSETFROM:+0200
TZOFFSETTO:+0100
TZNAME:Europe/Berlin CET
END:STANDARD
BEGIN:STANDARD
DTSTART:20281029T020000
RDATE:20290325T030000
TZOFFSETFROM:+0200
TZOFFSETTO:+0100
TZNAME:Europe/Berlin CET
END:STANDARD
BEGIN:STANDARD
DTSTART:20291028T020000
RDATE:20300331T030000
TZOFFSETFROM:+0200
TZOFFSETTO:+0100
TZNAME:Europe/Berlin CET
END:STANDARD
BEGIN:STANDARD
DTSTART:20301027T020000
RDATE:20310330T030000
TZOFFSETFROM:+0200
TZOFFSETTO:+0100
TZNAME:Europe/Berlin CET
END:STANDARD
BEGIN:STANDARD
DTSTART:20311026T020000
RDATE:20320328T030000
TZOFFSETFROM:+0200
TZOFFSETTO:+0100
TZNAME:Europe/Berlin CET
END:STANDARD
BEGIN:DAYLIGHT
DTSTART:20211007T000000
RDATE:20211031T020000
TZOFFSETFROM:+0100
TZOFFSETTO:+0200
TZNAME:Europe/Berlin CEST
END:DAYLIGHT
BEGIN:DAYLIGHT
DTSTART:20220327T030000
RDATE:20221030T020000
TZOFFSETFROM:+0100
TZOFFSETTO:+0200
TZNAME:Europe/Berlin CEST
END:DAYLIGHT
BEGIN:DAYLIGHT
DTSTART:20230326T030000
RDATE:20231029T020000
TZOFFSETFROM:+0100
TZOFFSETTO:+0200
TZNAME:Europe/Berlin CEST
END:DAYLIGHT
BEGIN:DAYLIGHT
DTSTART:20240331T030000
RDATE:20241027T020000
TZOFFSETFROM:+0100
TZOFFSETTO:+0200
TZNAME:Europe/Berlin CEST
END:DAYLIGHT
BEGIN:DAYLIGHT
DTSTART:20250330T030000
RDATE:20251026T020000
TZOFFSETFROM:+0100
TZOFFSETTO:+0200
TZNAME:Europe/Berlin CEST
END:DAYLIGHT
BEGIN:DAYLIGHT
DTSTART:20260329T030000
RDATE:20261025T020000
TZOFFSETFROM:+0100
TZOFFSETTO:+0200
TZNAME:Europe/Berlin CEST
END:DAYLIGHT
BEGIN:DAYLIGHT
DTSTART:20270328T030000
RDATE:20271031T020000
TZOFFSETFROM:+0100
TZOFFSETTO:+0200
TZNAME:Europe/Berlin CEST
END:DAYLIGHT
BEGIN:DAYLIGHT
DTSTART:20280326T030000
RDATE:20281029T020000
TZOFFSETFROM:+0100
TZOFFSETTO:+0200
TZNAME:Europe/Berlin CEST
END:DAYLIGHT
BEGIN:DAYLIGHT
DTSTART:20290325T030000
RDATE:20291028T020000
TZOFFSETFROM:+0100
TZOFFSETTO:+0200
TZNAME:Europe/Berlin CEST
END:DAYLIGHT
BEGIN:DAYLIGHT
DTSTART:20300331T030000
RDATE:20301027T020000
TZOFFSETFROM:+0100
TZOFFSETTO:+0200
TZNAME:Europe/Berlin CEST
END:DAYLIGHT
BEGIN:DAYLIGHT
DTSTART:20310330T030000
RDATE:20311026T020000
TZOFFSETFROM:+0100
TZOFFSETTO:+0200
TZNAME:Europe/Berlin CEST
END:DAYLIGHT
END:VTIMEZONE
BEGIN:VEVENT
UID:0c95c851019134d42a8e429e81bf3693
CATEGORIES:Züchtertagung
CREATED:20220827T101557
SUMMARY:Züchtertagung Bearded Collie
DESCRIPTION:Tagesordnung Züchtertagung 08.10.2022\n\n - Begrüßung\n -  Genehmigung der 
 Tagesordnung \n - aktuelle Lage der Rassehundeszucht speziell für den Beard
 ed Collie/ Ausstellungswesen/Tierschutz ect. \n - Bericht des Rassebetreuer
 s \n - Feststellung der wahlberechtigten Züchter \n - Wahl des Wahlleiters 
 \n - Wahl des Rassebetreuers \n - Wahl des stellvertretenden Rassebetreurs 
 \n - Bearbeitung eingegangener \n - Anträge VerschiedenesAnträge an die Züc
 htertagung bitte formgerecht bis spätestens 31.08.2022 unter Mail: Diese E-
 Mail-Adresse ist vor Spambots geschützt! Zur Anzeige muss JavaScript einges
 chaltet sein!
				document.getElementById('cloak3d6be13776b2793a9fc9f111289
 485fb').innerHTML = '';
				var prefix = '&#109;a' + 'i&#108;' + '&#116;o';
 
				var path = 'hr' + 'ef' + '=';
				var addy3d6be13776b2793a9fc9f1112894
 85fb = 'b&#101;&#97;rd&#101;d' + '&#64;';
				addy3d6be13776b2793a9fc9f1112
 89485fb = addy3d6be13776b2793a9fc9f111289485fb + 'cfbrh' + '&#46;' + 'd&#10
 1;';
				var addy_text3d6be13776b2793a9fc9f111289485fb = 'b&#101;&#97;rd&#1
 01;d' + '&#64;' + 'cfbrh' + '&#46;' + 'd&#101;';document.getElementById('cl
 oak3d6be13776b2793a9fc9f111289485fb').innerHTML += '<a style="-webkit-text-
 size-adjust: 100%;" ' + path + '\'' + prefix + ':' + addy3d6be13776b2793a9f
 c9f111289485fb + '\'>'+addy_text3d6be13776b2793a9fc9f111289485fb+'';
		 ein
 reichen. Für eine genaue Planung benötigen wir auch eine verbindliche Anmel
 dung für die Züchtertagung. Bitte diese auch bis 31.08.22 unter der o.g. Ma
 il-Adresse vornehmen.\nBitte vergessen Sie nicht Ihre Züchterkarte bzw. Zuc
 htstättenkarte vom CfBrH mitzubringen. Die Vorlage der Karte ist zwingend f
 ür die Ausübung des Wahlrechtes erforderlich!\n
X-ALT-DESC;FMTTYPE=text/html:<p>Tagesordnung Züchtertagung 08.10.2022</p><ol><li><span style="-webkit-te
 xt-size-adjust: 100%;">Begrüßung</span></li><li><span style="-webkit-text-s
 ize-adjust: 100%;"> Genehmigung der Tagesordnung </span></li><li><span styl
 e="-webkit-text-size-adjust: 100%;">aktuelle Lage der Rassehundeszucht spez
 iell für den Bearded Collie/ Ausstellungswesen/Tierschutz ect. </span></li>
 <li><span style="-webkit-text-size-adjust: 100%;">Bericht des Rassebetreuer
 s </span></li><li><span style="-webkit-text-size-adjust: 100%;">Feststellun
 g der wahlberechtigten Züchter </span></li><li><span style="-webkit-text-si
 ze-adjust: 100%;">Wahl des Wahlleiters </span></li><li><span style="-webkit
 -text-size-adjust: 100%;">Wahl des Rassebetreuers </span></li><li><span sty
 le="-webkit-text-size-adjust: 100%;">Wahl des stellvertretenden Rassebetreu
 rs </span></li><li><span style="-webkit-text-size-adjust: 100%;">Bearbeitun
 g eingegangener </span></li><li><span style="-webkit-text-size-adjust: 100%
 ;">Anträge Verschiedenes</span></li></ol><p><span style="-webkit-text-size-
 adjust: 100%;">Anträge an die Züchtertagung bitte formgerecht bis spätesten
 s 31.08.2022 unter Mail: </span><span id="cloak3d6be13776b2793a9fc9f1112894
 85fb">Diese E-Mail-Adresse ist vor Spambots geschützt! Zur Anzeige muss Jav
 aScript eingeschaltet sein!</span><script type='text/javascript'>
				docum
 ent.getElementById('cloak3d6be13776b2793a9fc9f111289485fb').innerHTML = '';
 
				var prefix = '&#109;a' + 'i&#108;' + '&#116;o';
				var path = 'hr' + 
 'ef' + '=';
				var addy3d6be13776b2793a9fc9f111289485fb = 'b&#101;&#97;rd&
 #101;d' + '&#64;';
				addy3d6be13776b2793a9fc9f111289485fb = addy3d6be1377
 6b2793a9fc9f111289485fb + 'cfbrh' + '&#46;' + 'd&#101;';
				var addy_text3
 d6be13776b2793a9fc9f111289485fb = 'b&#101;&#97;rd&#101;d' + '&#64;' + 'cfbr
 h' + '&#46;' + 'd&#101;';document.getElementById('cloak3d6be13776b2793a9fc9
 f111289485fb').innerHTML += '<a style="-webkit-text-size-adjust: 100%;" ' +
  path + '\'' + prefix + ':' + addy3d6be13776b2793a9fc9f111289485fb + '\'>'+
 addy_text3d6be13776b2793a9fc9f111289485fb+'<\/a>';
		</script><span style="
 -webkit-text-size-adjust: 100%;"> einreichen. Für eine genaue Planung benöt
 igen wir auch eine verbindliche Anmeldung für die Züchtertagung. Bitte dies
 e auch bis 31.08.22 unter der o.g. Mail-Adresse vornehmen.</span></p><p>Bit
 te vergessen Sie nicht Ihre Züchterkarte bzw. Zuchtstättenkarte vom CfBrH m
 itzubringen. Die Vorlage der Karte ist zwingend für die Ausübung des Wahlre
 chtes erforderlich!</p>
DTSTAMP:20260422T162319
DTSTART;TZID=Europe/Berlin;VALUE=DATE:20221008
DTEND;TZID=Europe/Berlin;VALUE=DATE:20221009
SEQUENCE:0
TRANSP:OPAQUE
END:VEVENT
END:VCALENDAR