BEGIN:VCALENDAR
VERSION:2.0
PRODID:-//jEvents 2.0 for Joomla//EN
CALSCALE:GREGORIAN
METHOD:PUBLISH
BEGIN:VTIMEZONE
TZID:Europe/Berlin
BEGIN:STANDARD
DTSTART:20211031T020000
RDATE:20220327T030000
TZOFFSETFROM:+0200
TZOFFSETTO:+0100
TZNAME:Europe/Berlin CET
END:STANDARD
BEGIN:STANDARD
DTSTART:20221030T020000
RDATE:20230326T030000
TZOFFSETFROM:+0200
TZOFFSETTO:+0100
TZNAME:Europe/Berlin CET
END:STANDARD
BEGIN:STANDARD
DTSTART:20231029T020000
RDATE:20240331T030000
TZOFFSETFROM:+0200
TZOFFSETTO:+0100
TZNAME:Europe/Berlin CET
END:STANDARD
BEGIN:STANDARD
DTSTART:20241027T020000
RDATE:20250330T030000
TZOFFSETFROM:+0200
TZOFFSETTO:+0100
TZNAME:Europe/Berlin CET
END:STANDARD
BEGIN:STANDARD
DTSTART:20251026T020000
RDATE:20260329T030000
TZOFFSETFROM:+0200
TZOFFSETTO:+0100
TZNAME:Europe/Berlin CET
END:STANDARD
BEGIN:STANDARD
DTSTART:20261025T020000
RDATE:20270328T030000
TZOFFSETFROM:+0200
TZOFFSETTO:+0100
TZNAME:Europe/Berlin CET
END:STANDARD
BEGIN:STANDARD
DTSTART:20271031T020000
RDATE:20280326T030000
TZOFFSETFROM:+0200
TZOFFSETTO:+0100
TZNAME:Europe/Berlin CET
END:STANDARD
BEGIN:STANDARD
DTSTART:20281029T020000
RDATE:20290325T030000
TZOFFSETFROM:+0200
TZOFFSETTO:+0100
TZNAME:Europe/Berlin CET
END:STANDARD
BEGIN:STANDARD
DTSTART:20291028T020000
RDATE:20300331T030000
TZOFFSETFROM:+0200
TZOFFSETTO:+0100
TZNAME:Europe/Berlin CET
END:STANDARD
BEGIN:STANDARD
DTSTART:20301027T020000
RDATE:20310330T030000
TZOFFSETFROM:+0200
TZOFFSETTO:+0100
TZNAME:Europe/Berlin CET
END:STANDARD
BEGIN:STANDARD
DTSTART:20311026T020000
RDATE:20320328T030000
TZOFFSETFROM:+0200
TZOFFSETTO:+0100
TZNAME:Europe/Berlin CET
END:STANDARD
BEGIN:DAYLIGHT
DTSTART:20210923T130000
RDATE:20211031T020000
TZOFFSETFROM:+0100
TZOFFSETTO:+0200
TZNAME:Europe/Berlin CEST
END:DAYLIGHT
BEGIN:DAYLIGHT
DTSTART:20220327T030000
RDATE:20221030T020000
TZOFFSETFROM:+0100
TZOFFSETTO:+0200
TZNAME:Europe/Berlin CEST
END:DAYLIGHT
BEGIN:DAYLIGHT
DTSTART:20230326T030000
RDATE:20231029T020000
TZOFFSETFROM:+0100
TZOFFSETTO:+0200
TZNAME:Europe/Berlin CEST
END:DAYLIGHT
BEGIN:DAYLIGHT
DTSTART:20240331T030000
RDATE:20241027T020000
TZOFFSETFROM:+0100
TZOFFSETTO:+0200
TZNAME:Europe/Berlin CEST
END:DAYLIGHT
BEGIN:DAYLIGHT
DTSTART:20250330T030000
RDATE:20251026T020000
TZOFFSETFROM:+0100
TZOFFSETTO:+0200
TZNAME:Europe/Berlin CEST
END:DAYLIGHT
BEGIN:DAYLIGHT
DTSTART:20260329T030000
RDATE:20261025T020000
TZOFFSETFROM:+0100
TZOFFSETTO:+0200
TZNAME:Europe/Berlin CEST
END:DAYLIGHT
BEGIN:DAYLIGHT
DTSTART:20270328T030000
RDATE:20271031T020000
TZOFFSETFROM:+0100
TZOFFSETTO:+0200
TZNAME:Europe/Berlin CEST
END:DAYLIGHT
BEGIN:DAYLIGHT
DTSTART:20280326T030000
RDATE:20281029T020000
TZOFFSETFROM:+0100
TZOFFSETTO:+0200
TZNAME:Europe/Berlin CEST
END:DAYLIGHT
BEGIN:DAYLIGHT
DTSTART:20290325T030000
RDATE:20291028T020000
TZOFFSETFROM:+0100
TZOFFSETTO:+0200
TZNAME:Europe/Berlin CEST
END:DAYLIGHT
BEGIN:DAYLIGHT
DTSTART:20300331T030000
RDATE:20301027T020000
TZOFFSETFROM:+0100
TZOFFSETTO:+0200
TZNAME:Europe/Berlin CEST
END:DAYLIGHT
BEGIN:DAYLIGHT
DTSTART:20310330T030000
RDATE:20311026T020000
TZOFFSETFROM:+0100
TZOFFSETTO:+0200
TZNAME:Europe/Berlin CEST
END:DAYLIGHT
END:VTIMEZONE
BEGIN:VEVENT
UID:296e105c43748e4ebbb77ed6751caca6
CATEGORIES:Züchtertagung
CREATED:20220429T153019
SUMMARY:Züchtertagung Sheltie
DESCRIPTION:<p>Liebe Sheltiefreunde,</p><p>&nbsp;</p><p>Wir dachten, wir kämen in ruhig
 ere Fahrwasser, doch da überrollte uns ein Tornado: Das neue <a href="https
 ://www.openpetition.de/petition/online/tierschutzgesetz-bedroht-rassehundez
 ucht">Tierschutzgesetz bedroht Rassehundezucht.</a> Wir nehmen den Kampf au
 f; doch dazu müssen wir alle zusammenhalten. Aufgeben ist keine Option. Wir
  werden versuchen, euch stets auf dem neuesten Stand zu halten, sei es bei 
 Facebook, WhatsApp oder auf der Homepage unseres Clubs unter <a href="http:
 //www.cfbrh.de/"></a><a href="http://www.cfbrh.de">http://www.cfbrh.de</a>.
 &nbsp;</p><p><br /> Die Planung für unsere Züchtertagung ist abgeschlossen.
 </p><p>Nicht nur das Datum, auch der Ort für unsere Tagung hat sich geänder
 t.<br /> In diesem Jahr findet sie am 24./25. September statt.</p><p><br />
  Wir werden uns im Waldhotel Schäferberg in Espenau bei Kassel treffen (<a 
 href="https://schaeferberg.de">https://schaeferberg.de</a>).</p><p>Leider&n
 bsp;ist auch hier nichts mehr, wie es einmal war. Wie wir mittlerweile alle
  mitbekommen haben, gibt es keine Tagungsräume mehr für Null Euro. Auch wir
  müssen eine Tagespauschale zahlen. Alles andere lässt sich nicht mehr real
 isieren.<br /> &nbsp;</p><p>Folgende Buchungsoptionen stehen uns zur Verfüg
 ung:</p><p>Nur Samstag&nbsp; 49,50€<br />Nur Sonntag&nbsp; &nbsp;40,50€</p>
 <p>Wer an beiden Tagen kommen möchte, bekommt ein Sparpaket: 160,00 € inklu
 sive Übernachtung.</p><p>In den Pauschalen sind Softgetränke während der Ta
 gung und Verpflegung enthalten.</p><p>Es können nur Personen teilnehmen, di
 e sich verbindlich bis zum 10. September bei mir per E-Mail <span id="cloak
 597b88e248395fe5c8bf08785a5614d6">Diese E-Mail-Adresse ist vor Spambots ges
 chützt! Zur Anzeige muss JavaScript eingeschaltet sein!</span><script type=
 'text/javascript'>
				document.getElementById('cloak597b88e248395fe5c8bf08
 785a5614d6').innerHTML = '';
				var prefix = '&#109;a' + 'i&#108;' + '&#11
 6;o';
				var path = 'hr' + 'ef' + '=';
				var addy597b88e248395fe5c8bf087
 85a5614d6 = 'sh&#101;lt&#105;&#101;s' + '&#64;';
				addy597b88e248395fe5c8
 bf08785a5614d6 = addy597b88e248395fe5c8bf08785a5614d6 + '&#111;ld-&#111;&#9
 7;k' + '&#46;' + 'c&#111;m';
				var addy_text597b88e248395fe5c8bf08785a561
 4d6 = 'sh&#101;lt&#105;&#101;s' + '&#64;' + '&#111;ld-&#111;&#97;k' + '&#46
 ;' + 'c&#111;m';document.getElementById('cloak597b88e248395fe5c8bf08785a561
 4d6').innerHTML += '<a ' + path + '\'' + prefix + ':' + addy597b88e248395fe
 5c8bf08785a5614d6 + '\'>'+addy_text597b88e248395fe5c8bf08785a5614d6+'<\/a>'
 ;
		</script> angemeldet haben. Die Kontoverbindung teile ich jedem nach se
 iner Anmeldung mit.&nbsp;</p><p>&nbsp;</p><p><strong>Samstag, 24 September<
 /strong></p><p>13:30 Uhr Begrüßung mit Kaffee, Tee und belegten Brötchen<br
  /> <br /> 14:00 Uhr Tagungsbeginn<br /> <br /> Programm (Änderungen vorbeh
 alten):<br /> Thema: Aktuelle Forschung zum Blue-Merle<br /> Referentin: Ti
 erärztin Jana Westerveld<br /> anschließende Diskussion zum Thema.<br /> <b
 r /> Im Anschluss sprechen wir über die aktuelle Situation unserer Rasse be
 züglich des TierSchG und der TierSchHuV.</p><p>18:00 Uhr Ende Samstag</p><p
 >Im Anschluss gemütliches Beisammensein und gemeinsames Abendessen, Büfett 
 oder 3-Gang Menü (je nach Auslastung)</p><p>&nbsp;</p><p>&nbsp;</p><p><stro
 ng>Sonntag, 25. September</strong></p><p>10:00 Uhr Begrüßung mit Kaffee, Te
 e und Kekse&nbsp; &nbsp; &nbsp;<br />11:00 Uhr&nbsp; Tagungsbeginn<br /> <b
 r /> Programm (Änderungen vorbehalten):<br /> Thema: Der Zuchtrüde (Fortpfl
 anzung und Zuchthygiene) <br /> Referentin: Tierärztin Dr. Theresa Conze<br
  /> anschließende Diskussion zum Thema</p><p>13:00 Uhr Mittagspause (es wir
 d ein Imbiss gereicht)</p><p>14:00 Uhr Rückblick auf das vergangene Jahr&nb
 sp;</p><p>&nbsp; &nbsp; &nbsp; &nbsp; &nbsp; &nbsp; &nbsp; Gesundheit, Shel
 tieschau&nbsp;</p><p>15:00 Uhr Neuwahlen</p><p>16:00 Uhr Kaffeepause am Nac
 hmittag mit hausgebackenem&nbsp;Blechkuchen.</p><p>16:30 Uhr Bearbeitung ei
 ngegangener Anträge</p><p>17:00 Uhr Ende des offiziellen Teils&nbsp;</p><p>
 &nbsp;</p><p>Wir hoffen auf rege Beteiligung und freuen uns auf euer Kommen
 . Euer Erscheinen ist wichtiger denn je.</p><p>&nbsp;</p><p>Herzliche Grüße
 </p><p>&nbsp;Petra Meier &nbsp; &nbsp; &nbsp; &nbsp; &nbsp; &nbsp; &nbsp; M
 artina Kohlhepp</p><p>Rassebetreuerin&nbsp; &nbsp; &nbsp; &nbsp;&nbsp;Stell
 v. Rassebetreuerin&nbsp;&nbsp;</p>
DTSTAMP:20260420T165643
DTSTART;TZID=Europe/Berlin:20220924T130000
DTEND;TZID=Europe/Berlin:20220925T170000
SEQUENCE:0
TRANSP:OPAQUE
END:VEVENT
END:VCALENDAR