BEGIN:VCALENDAR
VERSION:2.0
PRODID:-//jEvents 2.0 for Joomla//EN
CALSCALE:GREGORIAN
METHOD:PUBLISH
BEGIN:VTIMEZONE
TZID:Europe/Berlin
BEGIN:STANDARD
DTSTART:20211031T020000
RDATE:20220327T030000
TZOFFSETFROM:+0200
TZOFFSETTO:+0100
TZNAME:Europe/Berlin CET
END:STANDARD
BEGIN:STANDARD
DTSTART:20221030T020000
RDATE:20230326T030000
TZOFFSETFROM:+0200
TZOFFSETTO:+0100
TZNAME:Europe/Berlin CET
END:STANDARD
BEGIN:STANDARD
DTSTART:20231029T020000
RDATE:20240331T030000
TZOFFSETFROM:+0200
TZOFFSETTO:+0100
TZNAME:Europe/Berlin CET
END:STANDARD
BEGIN:STANDARD
DTSTART:20241027T020000
RDATE:20250330T030000
TZOFFSETFROM:+0200
TZOFFSETTO:+0100
TZNAME:Europe/Berlin CET
END:STANDARD
BEGIN:STANDARD
DTSTART:20251026T020000
RDATE:20260329T030000
TZOFFSETFROM:+0200
TZOFFSETTO:+0100
TZNAME:Europe/Berlin CET
END:STANDARD
BEGIN:STANDARD
DTSTART:20261025T020000
RDATE:20270328T030000
TZOFFSETFROM:+0200
TZOFFSETTO:+0100
TZNAME:Europe/Berlin CET
END:STANDARD
BEGIN:STANDARD
DTSTART:20271031T020000
RDATE:20280326T030000
TZOFFSETFROM:+0200
TZOFFSETTO:+0100
TZNAME:Europe/Berlin CET
END:STANDARD
BEGIN:STANDARD
DTSTART:20281029T020000
RDATE:20290325T030000
TZOFFSETFROM:+0200
TZOFFSETTO:+0100
TZNAME:Europe/Berlin CET
END:STANDARD
BEGIN:STANDARD
DTSTART:20291028T020000
RDATE:20300331T030000
TZOFFSETFROM:+0200
TZOFFSETTO:+0100
TZNAME:Europe/Berlin CET
END:STANDARD
BEGIN:STANDARD
DTSTART:20301027T020000
RDATE:20310330T030000
TZOFFSETFROM:+0200
TZOFFSETTO:+0100
TZNAME:Europe/Berlin CET
END:STANDARD
BEGIN:STANDARD
DTSTART:20311026T020000
RDATE:20320328T030000
TZOFFSETFROM:+0200
TZOFFSETTO:+0100
TZNAME:Europe/Berlin CET
END:STANDARD
BEGIN:DAYLIGHT
DTSTART:20210421T000000
RDATE:20211031T020000
TZOFFSETFROM:+0100
TZOFFSETTO:+0200
TZNAME:Europe/Berlin CEST
END:DAYLIGHT
BEGIN:DAYLIGHT
DTSTART:20220327T030000
RDATE:20221030T020000
TZOFFSETFROM:+0100
TZOFFSETTO:+0200
TZNAME:Europe/Berlin CEST
END:DAYLIGHT
BEGIN:DAYLIGHT
DTSTART:20230326T030000
RDATE:20231029T020000
TZOFFSETFROM:+0100
TZOFFSETTO:+0200
TZNAME:Europe/Berlin CEST
END:DAYLIGHT
BEGIN:DAYLIGHT
DTSTART:20240331T030000
RDATE:20241027T020000
TZOFFSETFROM:+0100
TZOFFSETTO:+0200
TZNAME:Europe/Berlin CEST
END:DAYLIGHT
BEGIN:DAYLIGHT
DTSTART:20250330T030000
RDATE:20251026T020000
TZOFFSETFROM:+0100
TZOFFSETTO:+0200
TZNAME:Europe/Berlin CEST
END:DAYLIGHT
BEGIN:DAYLIGHT
DTSTART:20260329T030000
RDATE:20261025T020000
TZOFFSETFROM:+0100
TZOFFSETTO:+0200
TZNAME:Europe/Berlin CEST
END:DAYLIGHT
BEGIN:DAYLIGHT
DTSTART:20270328T030000
RDATE:20271031T020000
TZOFFSETFROM:+0100
TZOFFSETTO:+0200
TZNAME:Europe/Berlin CEST
END:DAYLIGHT
BEGIN:DAYLIGHT
DTSTART:20280326T030000
RDATE:20281029T020000
TZOFFSETFROM:+0100
TZOFFSETTO:+0200
TZNAME:Europe/Berlin CEST
END:DAYLIGHT
BEGIN:DAYLIGHT
DTSTART:20290325T030000
RDATE:20291028T020000
TZOFFSETFROM:+0100
TZOFFSETTO:+0200
TZNAME:Europe/Berlin CEST
END:DAYLIGHT
BEGIN:DAYLIGHT
DTSTART:20300331T030000
RDATE:20301027T020000
TZOFFSETFROM:+0100
TZOFFSETTO:+0200
TZNAME:Europe/Berlin CEST
END:DAYLIGHT
BEGIN:DAYLIGHT
DTSTART:20310330T030000
RDATE:20311026T020000
TZOFFSETFROM:+0100
TZOFFSETTO:+0200
TZNAME:Europe/Berlin CEST
END:DAYLIGHT
END:VTIMEZONE
BEGIN:VEVENT
UID:60a33c802642058211db130126081e32
CATEGORIES:Hüteveranstaltung
CREATED:20220316T183137
SUMMARY:Hüteveranstaltung des CfBrH LG Württemberg
DESCRIPTION:Hüteveranstaltung des CfBrH der LG Württmeberg\nAngeboten wird: Collecting 
 Style - NHAT und Traditinal Style - NHAT\nDer Anmeldung ist eine Kopie der 
 Ahnentafel (FCI) oder Registerbescheinigung (FCI) CfBrH und der Leistungsur
 kunde beizufügen.\nLeistungsurkunden können bei der Leistungsbuchstelle des
  CfBrH beantragt werden.\nDiese E-Mail-Adresse ist vor Spambots geschützt! 
 Zur Anzeige muss JavaScript eingeschaltet sein!
				document.getElementById
 ('cloak1d4175fdce79ec7993a91c49e6fd2bf7').innerHTML = '';
				var prefix = 
 '&#109;a' + 'i&#108;' + '&#116;o';
				var path = 'hr' + 'ef' + '=';
				va
 r addy1d4175fdce79ec7993a91c49e6fd2bf7 = 'l&#101;&#105;st&#117;ngsb&#117;ch
 ' + '&#64;';
				addy1d4175fdce79ec7993a91c49e6fd2bf7 = addy1d4175fdce79ec7
 993a91c49e6fd2bf7 + 'cfbrh' + '&#46;' + 'd&#101;';
				var addy_text1d4175f
 dce79ec7993a91c49e6fd2bf7 = 'l&#101;&#105;st&#117;ngsb&#117;ch' + '&#64;' +
  'cfbrh' + '&#46;' + 'd&#101;';document.getElementById('cloak1d4175fdce79ec
 7993a91c49e6fd2bf7').innerHTML += '<a ' + path + '\'' + prefix + ':' + addy
 1d4175fdce79ec7993a91c49e6fd2bf7 + '\'>'+addy_text1d4175fdce79ec7993a91c49e
 6fd2bf7+'';
		
X-ALT-DESC;FMTTYPE=text/html:<p>Hüteveranstaltung des CfBrH der LG Württmeberg</p><div>Angeboten wird: C
 ollecting Style - NHAT und Traditinal Style - NHAT<br /><span style="-webki
 t-text-size-adjust: 100%;"></span></div><div><div>Der Anmeldung ist eine Ko
 pie der Ahnentafel (FCI) oder Registerbescheinigung (FCI) CfBrH und der Lei
 stungsurkunde beizufügen.</div><div><br />Leistungsurkunden können bei der 
 Leistungsbuchstelle des CfBrH beantragt werden.<br /><span id="cloak1d4175f
 dce79ec7993a91c49e6fd2bf7">Diese E-Mail-Adresse ist vor Spambots geschützt!
  Zur Anzeige muss JavaScript eingeschaltet sein!</span><script type='text/j
 avascript'>
				document.getElementById('cloak1d4175fdce79ec7993a91c49e6fd2
 bf7').innerHTML = '';
				var prefix = '&#109;a' + 'i&#108;' + '&#116;o';
	
 			var path = 'hr' + 'ef' + '=';
				var addy1d4175fdce79ec7993a91c49e6fd2b
 f7 = 'l&#101;&#105;st&#117;ngsb&#117;ch' + '&#64;';
				addy1d4175fdce79ec7
 993a91c49e6fd2bf7 = addy1d4175fdce79ec7993a91c49e6fd2bf7 + 'cfbrh' + '&#46;
 ' + 'd&#101;';
				var addy_text1d4175fdce79ec7993a91c49e6fd2bf7 = 'l&#101;
 &#105;st&#117;ngsb&#117;ch' + '&#64;' + 'cfbrh' + '&#46;' + 'd&#101;';docum
 ent.getElementById('cloak1d4175fdce79ec7993a91c49e6fd2bf7').innerHTML += '<
 a ' + path + '\'' + prefix + ':' + addy1d4175fdce79ec7993a91c49e6fd2bf7 + '
 \'>'+addy_text1d4175fdce79ec7993a91c49e6fd2bf7+'<\/a>';
		</script></div></
 div>
DTSTAMP:20260424T101025
DTSTART;TZID=Europe/Berlin;VALUE=DATE:20220422
DTEND;TZID=Europe/Berlin;VALUE=DATE:20220423
SEQUENCE:0
TRANSP:OPAQUE
END:VEVENT
END:VCALENDAR