BEGIN:VCALENDAR
VERSION:2.0
PRODID:-//jEvents 2.0 for Joomla//EN
CALSCALE:GREGORIAN
METHOD:PUBLISH
BEGIN:VTIMEZONE
TZID:Europe/Berlin
BEGIN:STANDARD
DTSTART:20210325T093000
RDATE:20210328T030000
TZOFFSETFROM:+0200
TZOFFSETTO:+0100
TZNAME:Europe/Berlin CET
END:STANDARD
BEGIN:STANDARD
DTSTART:20211031T020000
RDATE:20220327T030000
TZOFFSETFROM:+0200
TZOFFSETTO:+0100
TZNAME:Europe/Berlin CET
END:STANDARD
BEGIN:STANDARD
DTSTART:20221030T020000
RDATE:20230326T030000
TZOFFSETFROM:+0200
TZOFFSETTO:+0100
TZNAME:Europe/Berlin CET
END:STANDARD
BEGIN:STANDARD
DTSTART:20231029T020000
RDATE:20240331T030000
TZOFFSETFROM:+0200
TZOFFSETTO:+0100
TZNAME:Europe/Berlin CET
END:STANDARD
BEGIN:STANDARD
DTSTART:20241027T020000
RDATE:20250330T030000
TZOFFSETFROM:+0200
TZOFFSETTO:+0100
TZNAME:Europe/Berlin CET
END:STANDARD
BEGIN:STANDARD
DTSTART:20251026T020000
RDATE:20260329T030000
TZOFFSETFROM:+0200
TZOFFSETTO:+0100
TZNAME:Europe/Berlin CET
END:STANDARD
BEGIN:STANDARD
DTSTART:20261025T020000
RDATE:20270328T030000
TZOFFSETFROM:+0200
TZOFFSETTO:+0100
TZNAME:Europe/Berlin CET
END:STANDARD
BEGIN:STANDARD
DTSTART:20271031T020000
RDATE:20280326T030000
TZOFFSETFROM:+0200
TZOFFSETTO:+0100
TZNAME:Europe/Berlin CET
END:STANDARD
BEGIN:STANDARD
DTSTART:20281029T020000
RDATE:20290325T030000
TZOFFSETFROM:+0200
TZOFFSETTO:+0100
TZNAME:Europe/Berlin CET
END:STANDARD
BEGIN:STANDARD
DTSTART:20291028T020000
RDATE:20300331T030000
TZOFFSETFROM:+0200
TZOFFSETTO:+0100
TZNAME:Europe/Berlin CET
END:STANDARD
BEGIN:STANDARD
DTSTART:20301027T020000
RDATE:20310330T030000
TZOFFSETFROM:+0200
TZOFFSETTO:+0100
TZNAME:Europe/Berlin CET
END:STANDARD
BEGIN:STANDARD
DTSTART:20311026T020000
RDATE:20320328T030000
TZOFFSETFROM:+0200
TZOFFSETTO:+0100
TZNAME:Europe/Berlin CET
END:STANDARD
BEGIN:DAYLIGHT
DTSTART:20210328T030000
RDATE:20211031T020000
TZOFFSETFROM:+0100
TZOFFSETTO:+0200
TZNAME:Europe/Berlin CEST
END:DAYLIGHT
BEGIN:DAYLIGHT
DTSTART:20220327T030000
RDATE:20221030T020000
TZOFFSETFROM:+0100
TZOFFSETTO:+0200
TZNAME:Europe/Berlin CEST
END:DAYLIGHT
BEGIN:DAYLIGHT
DTSTART:20230326T030000
RDATE:20231029T020000
TZOFFSETFROM:+0100
TZOFFSETTO:+0200
TZNAME:Europe/Berlin CEST
END:DAYLIGHT
BEGIN:DAYLIGHT
DTSTART:20240331T030000
RDATE:20241027T020000
TZOFFSETFROM:+0100
TZOFFSETTO:+0200
TZNAME:Europe/Berlin CEST
END:DAYLIGHT
BEGIN:DAYLIGHT
DTSTART:20250330T030000
RDATE:20251026T020000
TZOFFSETFROM:+0100
TZOFFSETTO:+0200
TZNAME:Europe/Berlin CEST
END:DAYLIGHT
BEGIN:DAYLIGHT
DTSTART:20260329T030000
RDATE:20261025T020000
TZOFFSETFROM:+0100
TZOFFSETTO:+0200
TZNAME:Europe/Berlin CEST
END:DAYLIGHT
BEGIN:DAYLIGHT
DTSTART:20270328T030000
RDATE:20271031T020000
TZOFFSETFROM:+0100
TZOFFSETTO:+0200
TZNAME:Europe/Berlin CEST
END:DAYLIGHT
BEGIN:DAYLIGHT
DTSTART:20280326T030000
RDATE:20281029T020000
TZOFFSETFROM:+0100
TZOFFSETTO:+0200
TZNAME:Europe/Berlin CEST
END:DAYLIGHT
BEGIN:DAYLIGHT
DTSTART:20290325T030000
RDATE:20291028T020000
TZOFFSETFROM:+0100
TZOFFSETTO:+0200
TZNAME:Europe/Berlin CEST
END:DAYLIGHT
BEGIN:DAYLIGHT
DTSTART:20300331T030000
RDATE:20301027T020000
TZOFFSETFROM:+0100
TZOFFSETTO:+0200
TZNAME:Europe/Berlin CEST
END:DAYLIGHT
BEGIN:DAYLIGHT
DTSTART:20310330T030000
RDATE:20311026T020000
TZOFFSETFROM:+0100
TZOFFSETTO:+0200
TZNAME:Europe/Berlin CEST
END:DAYLIGHT
END:VTIMEZONE
BEGIN:VEVENT
UID:5db28fe95a90acd6ec54c3184516ac55
CATEGORIES:Züchtertagung
CREATED:20211117T141436
SUMMARY:Züchtertagung Border Collie 2022
DESCRIPTION:Einladung zur Züchtertagung Border Collie 2022\nAlle Details zum Ablauf fol
 gen in den kommenden Wochen. Diese befinden sich noch in Ausarbeitung und A
 bklärung.\nHINWEIS: \n\n - Nur schriftlich angemeldete Personen können an d
 er Tagung teilnehmen. (Anmeldung an: Diese E-Mail-Adresse ist vor Spambots 
 geschützt! Zur Anzeige muss JavaScript eingeschaltet sein!
				document.get
 ElementById('cloakd197c599e636a2926b7074dd02132229').innerHTML = '';
				va
 r prefix = '&#109;a' + 'i&#108;' + '&#116;o';
				var path = 'hr' + 'ef' + 
 '=';
				var addyd197c599e636a2926b7074dd02132229 = 'b&#111;rd&#101;r' + '&
 #64;';
				addyd197c599e636a2926b7074dd02132229 = addyd197c599e636a2926b707
 4dd02132229 + 'cfbrh' + '&#46;' + 'd&#101;';
				var addy_textd197c599e636a
 2926b7074dd02132229 = 'b&#111;rd&#101;r' + '&#64;' + 'cfbrh' + '&#46;' + 'd
 &#101;';document.getElementById('cloakd197c599e636a2926b7074dd02132229').in
 nerHTML += '<a ' + path + '\'' + prefix + ':' + addyd197c599e636a2926b7074d
 d02132229 + '\'>'+addy_textd197c599e636a2926b7074dd02132229+'';
		)\n - Der
  Zahlungseingang und somit die verbindliche Reservierung der Teilnahme muss
  bis zum 12.02.2022 erfolgt sein\n - Für die Teilnahme ist eine Zahlung ein
 er Tagungspauschale von € 39,50 pro Person zu entrichten. (Kontodaten werde
 n nach Anmeldung per Mail übermittelt - nicht vor Januar)\n - In der Tagung
 spauschale sind eine Kaffeepause vor Tagungsbeginn (ca 9:30-10:00) und ein 
 Mittagessen (3 Gänge Buffet) enthalten. \nKaltgetränke sind während der Tag
 ung im Tagungsraum ebenfalls vorhanden.\n - Erst bei Zahlungseingang erfolg
 t eine Bestätigung der Teilnahme per Mail.\n - Gäste ohne Bezahlung bzw. An
 meldung können nicht an der Tagung teilnehmen.\n - Da wir heute noch nicht 
 wissen, welche Coronaregeln wir im März 2022 haben werden, müssen wir im Mi
 nimum von einer 3G eventuell sogar einer 2G Veranstaltung ausgehen. Hierzu 
 kann nur kurzfristig Auskunft gegeben werden. Beobachten Sie daher bitte se
 lber auch das Geschehen mit.\nNACHTRAG 02.02.2022: Aktuell gilt vor ort die
  2G+ Regel (2G+ in Hessen: https://hessen.de/sites/hessen.hessen.de/files/2
 022-01/2g-plusregeln_2101_v5.pdf)\n - Aus vorgenanntem Grund ist die Teilne
 hmerzahl auch begrenzt, damit wir allen möglichen Vorschriften entsprechend
  gerecht werden können. Daher ist eine frühzeitige Anmeldung und Zahlung si
 nnvoll.\n - Im Tagungshotel (im Tagungsraum) sind eine geringe Anzahl an Hu
 nden möglich. Dennoch möchte ich dazu aufrufen von dieser Möglichkeit mögli
 chst wenig Gebrauch zu machen \nTagesordnung für die Züchtertagung am 26.03
 .2022 - Beginn 9:30\n\n⁃   9:30 Eintreffen der Teilnehmer mit Begrüßungskaf
 fee\n\n⁃ 10:00 Begrüßung und Start der Tagung\n\n⁃ 10:15 Herr André Roller 
 / Vorsitzender der Hütekommission\n           - Vorstellung der Hütekommiss
 ion und deren Aufgaben\n           - Border Collie bei der Hütearbeit am Vi
 eh\n           - FCI – Hütetest und Trials in CS und TS\n             (HWT,
 Collecting und Traditional Style)\n           - Austausch und Diskussion\n\
 n⁃ 11:20 Dipl. Biologe Hubert Bauer / Laboklin\n            - Laboklin DNA 
 Profile nach ISAG 2020\n            - Austausch und Diskussion\n\n⁃ 12:30 M
 ITTAGSPAUSE\n⁃ 13:30 - Kurzer Bericht des Rassebetreuers\n           - Neue
 rungen in der Zucht - und Körordnung seit der letzten HV\n\n- 14:15 Wahlen\
 n            - Feststellung der wahlberechtigten Züchter\n            (Zuch
 tstättenschutzkarte des CfBrH nicht vergessen)\n            - Wahl eines Wa
 hlleiters\n            - Wahl des Rassebetreuers\n            - Wahl des st
 ellvertretenden Rassebetreuers\n\n- 15:00 Behandlung eingegangener Anträge\
 n            Sonstiges\n\nENDE    voraussichtlich 16 Uhr\n\nAnträge zur Züc
 htertagung sind bitte ebenfalls bis spätestens 12.02.2022 schriftlich an Di
 ese E-Mail-Adresse ist vor Spambots geschützt! Zur Anzeige muss JavaScript 
 eingeschaltet sein!
				document.getElementById('cloak7bf93539379661003f56e
 328c135360f').innerHTML = '';
				var prefix = '&#109;a' + 'i&#108;' + '&#1
 16;o';
				var path = 'hr' + 'ef' + '=';
				var addy7bf93539379661003f56e3
 28c135360f = 'b&#111;rd&#101;r' + '&#64;';
				addy7bf93539379661003f56e328
 c135360f = addy7bf93539379661003f56e328c135360f + 'cfbrh' + '&#46;' + 'd&#1
 01;';
				var addy_text7bf93539379661003f56e328c135360f = 'b&#111;rd&#101;r
 ' + '&#64;' + 'cfbrh' + '&#46;' + 'd&#101;';document.getElementById('cloak7
 bf93539379661003f56e328c135360f').innerHTML += '<a ' + path + '\'' + prefix
  + ':' + addy7bf93539379661003f56e328c135360f + '\'>'+addy_text7bf935393796
 61003f56e328c135360f+'';
		 zu senden.\n
X-ALT-DESC;FMTTYPE=text/html:<p>Einladung zur Züchtertagung Border Collie 2022</p><p>Alle Details zum Ab
 lauf folgen in den kommenden Wochen. Diese befinden sich noch in Ausarbeitu
 ng und Abklärung.</p><p><span style="color: #ff0000;"><strong>HINWEIS: </st
 rong></span></p><ul><li>Nur schriftlich angemeldete Personen können an der 
 Tagung teilnehmen. (Anmeldung an: <span id="cloakd197c599e636a2926b7074dd02
 132229">Diese E-Mail-Adresse ist vor Spambots geschützt! Zur Anzeige muss J
 avaScript eingeschaltet sein!</span><script type='text/javascript'>
				doc
 ument.getElementById('cloakd197c599e636a2926b7074dd02132229').innerHTML = '
 ';
				var prefix = '&#109;a' + 'i&#108;' + '&#116;o';
				var path = 'hr' 
 + 'ef' + '=';
				var addyd197c599e636a2926b7074dd02132229 = 'b&#111;rd&#10
 1;r' + '&#64;';
				addyd197c599e636a2926b7074dd02132229 = addyd197c599e636
 a2926b7074dd02132229 + 'cfbrh' + '&#46;' + 'd&#101;';
				var addy_textd197
 c599e636a2926b7074dd02132229 = 'b&#111;rd&#101;r' + '&#64;' + 'cfbrh' + '&#
 46;' + 'd&#101;';document.getElementById('cloakd197c599e636a2926b7074dd0213
 2229').innerHTML += '<a ' + path + '\'' + prefix + ':' + addyd197c599e636a2
 926b7074dd02132229 + '\'>'+addy_textd197c599e636a2926b7074dd02132229+'<\/a>
 ';
		</script>)</li><li>Der Zahlungseingang und somit die verbindliche Rese
 rvierung der Teilnahme muss bis zum 12.02.2022 erfolgt sein</li><li>Für die
  Teilnahme ist eine Zahlung einer Tagungspauschale von € 39,50 pro Person z
 u entrichten. (<span style="color: #ff0000;">Kontodaten werden nach Anmeldu
 ng per Mail übermittelt - nicht vor Januar</span>)</li><li>In der Tagungspa
 uschale sind eine Kaffeepause vor Tagungsbeginn (ca 9:30-10:00) und ein Mit
 tagessen (3 Gänge Buffet) enthalten. <br />Kaltgetränke sind während der Ta
 gung im Tagungsraum ebenfalls vorhanden.</li><li>Erst bei Zahlungseingang e
 rfolgt eine Bestätigung der Teilnahme per Mail.</li><li>Gäste ohne Bezahlun
 g bzw. Anmeldung können nicht an der Tagung teilnehmen.</li><li>Da wir heut
 e noch nicht wissen, welche Coronaregeln wir im März 2022 haben werden, müs
 sen wir im Minimum von einer 3G eventuell sogar einer 2G Veranstaltung ausg
 ehen. Hierzu kann nur kurzfristig Auskunft gegeben werden. Beobachten Sie d
 aher bitte selber auch das Geschehen mit.<br /><span style="color: #ff0000;
 ">NACHTRAG 02.02.2022: Aktuell gilt vor ort die 2G+ Regel (2G+ in Hessen: <
 a href="https://hessen.de/sites/hessen.hessen.de/files/2022-01/2g-plusregel
 n_2101_v5.pdf" target="_blank" rel="noopener">https://hessen.de/sites/hesse
 n.hessen.de/files/2022-01/2g-plusregeln_2101_v5.pdf</a>)</span></li><li>Aus
  vorgenanntem Grund ist die Teilnehmerzahl auch begrenzt, damit wir allen m
 öglichen Vorschriften entsprechend gerecht werden können. Daher ist eine fr
 ühzeitige Anmeldung und Zahlung sinnvoll.</li><li>Im Tagungshotel (im Tagun
 gsraum) sind eine geringe Anzahl an Hunden möglich. Dennoch möchte ich dazu
  aufrufen von dieser Möglichkeit möglichst wenig Gebrauch zu machen</li></u
 l><p>&nbsp;</p><p>Tagesordnung für die Züchtertagung am 26.03.2022 - <stron
 g>Beginn 9:30</strong><br /><br />⁃ &nbsp; 9:30 Eintreffen der Teilnehmer m
 it Begrüßungskaffee<br /><br />⁃ 10:00 Begrüßung und Start der Tagung<br />
 <br />⁃ 10:15 Herr André Roller / Vorsitzender der Hütekommission<br />&nbs
 p; &nbsp; &nbsp; &nbsp; &nbsp; &nbsp;- Vorstellung der Hütekommission und d
 eren Aufgaben<br />&nbsp; &nbsp; &nbsp; &nbsp; &nbsp; &nbsp;- Border Collie
  bei der Hütearbeit am Vieh<br />&nbsp; &nbsp; &nbsp; &nbsp; &nbsp; &nbsp;-
  FCI – Hütetest und Trials in CS und TS<br />&nbsp; &nbsp; &nbsp; &nbsp; &n
 bsp; &nbsp; &nbsp;(HWT,Collecting und Traditional Style)<br />&nbsp; &nbsp;
  &nbsp; &nbsp; &nbsp; &nbsp;- Austausch und Diskussion<br /><br />⁃ 11:20 D
 ipl. Biologe Hubert Bauer / Laboklin<br />&nbsp; &nbsp; &nbsp; &nbsp; &nbsp
 ; &nbsp; - Laboklin DNA Profile nach ISAG 2020<br />&nbsp; &nbsp; &nbsp; &n
 bsp; &nbsp; &nbsp; - Austausch und Diskussion<br /><br />⁃ 12:30 MITTAGSPAU
 SE</p><p>⁃ 13:30 - Kurzer Bericht des Rassebetreuers<br />&nbsp; &nbsp; &nb
 sp; &nbsp; &nbsp; &nbsp;- Neuerungen in der Zucht - und Körordnung seit der
  letzten HV<br /><br />- 14:15 Wahlen<br />&nbsp; &nbsp; &nbsp; &nbsp; &nbs
 p; &nbsp; - Feststellung der wahlberechtigten Züchter<br />&nbsp; &nbsp; &n
 bsp; &nbsp; &nbsp; &nbsp; (<strong>Zuchtstättenschutzkarte des CfBrH nicht 
 vergessen</strong>)<br />&nbsp; &nbsp; &nbsp; &nbsp; &nbsp; &nbsp; - Wahl e
 ines Wahlleiters<br />&nbsp; &nbsp; &nbsp; &nbsp; &nbsp; &nbsp; - Wahl des 
 Rassebetreuers<br />&nbsp; &nbsp; &nbsp; &nbsp; &nbsp; &nbsp; - Wahl des st
 ellvertretenden Rassebetreuers<br /><br />- 15:00 Behandlung eingegangener 
 Anträge<br />&nbsp; &nbsp; &nbsp; &nbsp; &nbsp; &nbsp; Sonstiges<br /><br /
 >ENDE &nbsp; &nbsp;voraussichtlich 16 Uhr<br /><br />Anträge zur Züchtertag
 ung sind bitte ebenfalls bis spätestens 12.02.2022 schriftlich an <span id=
 "cloak7bf93539379661003f56e328c135360f">Diese E-Mail-Adresse ist vor Spambo
 ts geschützt! Zur Anzeige muss JavaScript eingeschaltet sein!</span><script
  type='text/javascript'>
				document.getElementById('cloak7bf9353937966100
 3f56e328c135360f').innerHTML = '';
				var prefix = '&#109;a' + 'i&#108;' +
  '&#116;o';
				var path = 'hr' + 'ef' + '=';
				var addy7bf93539379661003
 f56e328c135360f = 'b&#111;rd&#101;r' + '&#64;';
				addy7bf93539379661003f5
 6e328c135360f = addy7bf93539379661003f56e328c135360f + 'cfbrh' + '&#46;' + 
 'd&#101;';
				var addy_text7bf93539379661003f56e328c135360f = 'b&#111;rd&#
 101;r' + '&#64;' + 'cfbrh' + '&#46;' + 'd&#101;';document.getElementById('c
 loak7bf93539379661003f56e328c135360f').innerHTML += '<a ' + path + '\'' + p
 refix + ':' + addy7bf93539379661003f56e328c135360f + '\'>'+addy_text7bf9353
 9379661003f56e328c135360f+'<\/a>';
		</script> zu senden.</p>
DTSTAMP:20260420T163823
DTSTART;TZID=Europe/Berlin:20220326T093000
DTEND;TZID=Europe/Berlin:20220326T160000
SEQUENCE:0
TRANSP:OPAQUE
END:VEVENT
END:VCALENDAR