BEGIN:VCALENDAR
VERSION:2.0
PRODID:-//jEvents 2.0 for Joomla//EN
CALSCALE:GREGORIAN
METHOD:PUBLISH
BEGIN:VTIMEZONE
TZID:Europe/Berlin
BEGIN:STANDARD
DTSTART:20191121T130000
RDATE:20200329T030000
TZOFFSETFROM:+0200
TZOFFSETTO:+0100
TZNAME:Europe/Berlin CET
END:STANDARD
BEGIN:STANDARD
DTSTART:20201025T020000
RDATE:20210328T030000
TZOFFSETFROM:+0200
TZOFFSETTO:+0100
TZNAME:Europe/Berlin CET
END:STANDARD
BEGIN:STANDARD
DTSTART:20211031T020000
RDATE:20220327T030000
TZOFFSETFROM:+0200
TZOFFSETTO:+0100
TZNAME:Europe/Berlin CET
END:STANDARD
BEGIN:STANDARD
DTSTART:20221030T020000
RDATE:20230326T030000
TZOFFSETFROM:+0200
TZOFFSETTO:+0100
TZNAME:Europe/Berlin CET
END:STANDARD
BEGIN:STANDARD
DTSTART:20231029T020000
RDATE:20240331T030000
TZOFFSETFROM:+0200
TZOFFSETTO:+0100
TZNAME:Europe/Berlin CET
END:STANDARD
BEGIN:STANDARD
DTSTART:20241027T020000
RDATE:20250330T030000
TZOFFSETFROM:+0200
TZOFFSETTO:+0100
TZNAME:Europe/Berlin CET
END:STANDARD
BEGIN:STANDARD
DTSTART:20251026T020000
RDATE:20260329T030000
TZOFFSETFROM:+0200
TZOFFSETTO:+0100
TZNAME:Europe/Berlin CET
END:STANDARD
BEGIN:STANDARD
DTSTART:20261025T020000
RDATE:20270328T030000
TZOFFSETFROM:+0200
TZOFFSETTO:+0100
TZNAME:Europe/Berlin CET
END:STANDARD
BEGIN:STANDARD
DTSTART:20271031T020000
RDATE:20280326T030000
TZOFFSETFROM:+0200
TZOFFSETTO:+0100
TZNAME:Europe/Berlin CET
END:STANDARD
BEGIN:STANDARD
DTSTART:20281029T020000
RDATE:20290325T030000
TZOFFSETFROM:+0200
TZOFFSETTO:+0100
TZNAME:Europe/Berlin CET
END:STANDARD
BEGIN:STANDARD
DTSTART:20291028T020000
RDATE:20300331T030000
TZOFFSETFROM:+0200
TZOFFSETTO:+0100
TZNAME:Europe/Berlin CET
END:STANDARD
BEGIN:STANDARD
DTSTART:20301027T020000
RDATE:20310330T030000
TZOFFSETFROM:+0200
TZOFFSETTO:+0100
TZNAME:Europe/Berlin CET
END:STANDARD
BEGIN:STANDARD
DTSTART:20311026T020000
RDATE:20320328T030000
TZOFFSETFROM:+0200
TZOFFSETTO:+0100
TZNAME:Europe/Berlin CET
END:STANDARD
BEGIN:DAYLIGHT
DTSTART:20200329T030000
RDATE:20201025T020000
TZOFFSETFROM:+0100
TZOFFSETTO:+0200
TZNAME:Europe/Berlin CEST
END:DAYLIGHT
BEGIN:DAYLIGHT
DTSTART:20210328T030000
RDATE:20211031T020000
TZOFFSETFROM:+0100
TZOFFSETTO:+0200
TZNAME:Europe/Berlin CEST
END:DAYLIGHT
BEGIN:DAYLIGHT
DTSTART:20220327T030000
RDATE:20221030T020000
TZOFFSETFROM:+0100
TZOFFSETTO:+0200
TZNAME:Europe/Berlin CEST
END:DAYLIGHT
BEGIN:DAYLIGHT
DTSTART:20230326T030000
RDATE:20231029T020000
TZOFFSETFROM:+0100
TZOFFSETTO:+0200
TZNAME:Europe/Berlin CEST
END:DAYLIGHT
BEGIN:DAYLIGHT
DTSTART:20240331T030000
RDATE:20241027T020000
TZOFFSETFROM:+0100
TZOFFSETTO:+0200
TZNAME:Europe/Berlin CEST
END:DAYLIGHT
BEGIN:DAYLIGHT
DTSTART:20250330T030000
RDATE:20251026T020000
TZOFFSETFROM:+0100
TZOFFSETTO:+0200
TZNAME:Europe/Berlin CEST
END:DAYLIGHT
BEGIN:DAYLIGHT
DTSTART:20260329T030000
RDATE:20261025T020000
TZOFFSETFROM:+0100
TZOFFSETTO:+0200
TZNAME:Europe/Berlin CEST
END:DAYLIGHT
BEGIN:DAYLIGHT
DTSTART:20270328T030000
RDATE:20271031T020000
TZOFFSETFROM:+0100
TZOFFSETTO:+0200
TZNAME:Europe/Berlin CEST
END:DAYLIGHT
BEGIN:DAYLIGHT
DTSTART:20280326T030000
RDATE:20281029T020000
TZOFFSETFROM:+0100
TZOFFSETTO:+0200
TZNAME:Europe/Berlin CEST
END:DAYLIGHT
BEGIN:DAYLIGHT
DTSTART:20290325T030000
RDATE:20291028T020000
TZOFFSETFROM:+0100
TZOFFSETTO:+0200
TZNAME:Europe/Berlin CEST
END:DAYLIGHT
BEGIN:DAYLIGHT
DTSTART:20300331T030000
RDATE:20301027T020000
TZOFFSETFROM:+0100
TZOFFSETTO:+0200
TZNAME:Europe/Berlin CEST
END:DAYLIGHT
BEGIN:DAYLIGHT
DTSTART:20310330T030000
RDATE:20311026T020000
TZOFFSETFROM:+0100
TZOFFSETTO:+0200
TZNAME:Europe/Berlin CEST
END:DAYLIGHT
END:VTIMEZONE
BEGIN:VEVENT
UID:4c252994847f5b198c6b80ae1c97a30f
CATEGORIES:Sonstige
CREATED:20201006T124850
SUMMARY:Zuchtwartschulung und Seminar für Züchter
DESCRIPTION:Wir sind mutig und wagen es, noch einen weiteren Termin zu planen:\nEine Zu
 chtwarteschulung mit anschliessendem Seminar für Züchter zur / Erlangung de
 r Sachkunde.\nEs können maximal 50 Personen teilnehmen, vorrangig Züchter d
 es CfBrH, aber auch interessierte Mitglieder sind willkommen, sollten noch 
 Plätze frei sein.\nThema: Rund um das Belegen der Hündin\nReferent: Dr. Ble
 ndinger\nDatum: Samstag 21/11/2020 (x-apple-data-detectors://5)\nUhrzeit: <
 a dir="ltr" href="x-apple-data-detectors://6" x-apple-data-detectors="true"
  x-apple-data-detectors-type="calendar-event" x-apple-data-detectors-result
 ="6">13:00 bis 17:00</a>\nOrt: Hotel Restaurant Napoleon, Hauptstrasse 210,
  77866 Rheinau (x-apple-data-detectors://7/1)\n \nVerbindliche Anmeldung be
 i unserer 2. Vorsitzenden Frau Annette Klarmann\n(Diese E-Mail-Adresse ist 
 vor Spambots geschützt! Zur Anzeige muss JavaScript eingeschaltet sein!
			
 	document.getElementById('cloak9a8a4f1874e81e8397c74989553ea986').innerHTML
  = '';
				var prefix = '&#109;a' + 'i&#108;' + '&#116;o';
				var path = '
 hr' + 'ef' + '=';
				var addy9a8a4f1874e81e8397c74989553ea986 = '&#97;nn&#
 101;tt&#101;.kl&#97;rm&#97;nn' + '&#64;';
				addy9a8a4f1874e81e8397c749895
 53ea986 = addy9a8a4f1874e81e8397c74989553ea986 + 't-&#111;nl&#105;n&#101;' 
 + '&#46;' + 'd&#101;';
				var addy_text9a8a4f1874e81e8397c74989553ea986 = 
 '&#97;nn&#101;tt&#101;.kl&#97;rm&#97;nn' + '&#64;' + 't-&#111;nl&#105;n&#10
 1;' + '&#46;' + 'd&#101;';document.getElementById('cloak9a8a4f1874e81e8397c
 74989553ea986').innerHTML += '<a ' + path + '\'' + prefix + ':' + addy9a8a4
 f1874e81e8397c74989553ea986 + '\'>'+addy_text9a8a4f1874e81e8397c74989553ea9
 86+'';
		) <a dir="ltr" style="color: #000000;" href="x-apple-data-detector
 s://9" x-apple-data-detectors="true" x-apple-data-detectors-type="calendar-
 event" x-apple-data-detectors-result="9">bis 10/11/2020</a> bzw. bei  Errei
 chen der maximalen Teilnehmerzahl.\nNach Bestätigung der Anmeldung zum Semi
 ar durch Fr. Klarmann, bitte umgehende Überweisung der Teilnahmegebühr von 
 25€ auf das Konto der LG:\nVolksbank Worms-Wonnegau, \nIBAN: DE80 5509 1200
  0011 3735 00\nBIC: GENODE61AZY\nWie bei allen Veranstaltungen, gelten auch
  hier die Corona Auflagen wie Abstand halten, Hygiene und Mund-Nasenschutz 
 korrekt tragen (diesen muss jeder Teilnehmer selber mitbringen!).\nWir sind
  optimistisch, dass wir diese Veranstaltung durchführen können und freuen u
 ns auf viele interessierte Züchter!\nDie Vorstandschaft der LG Baden-Pfalz\
 n
X-ALT-DESC;FMTTYPE=text/html:<div dir="ltr"><div><div><p>Wir sind mutig und wagen es, noch einen weitere
 n Termin zu planen:</p></div></div></div><div dir="ltr"><div><div><p>Eine Z
 uchtwarteschulung mit anschliessendem Seminar für Züchter zur / Erlangung d
 er Sachkunde.</p><p>Es können maximal 50 Personen teilnehmen, vorrangig Züc
 hter des CfBrH, aber auch interessierte Mitglieder sind willkommen, sollten
  noch Plätze frei sein.</p><p>Thema: Rund um das Belegen der Hündin</p><p>R
 eferent: Dr. Blendinger</p><p>Datum:&nbsp;<a dir="ltr" href="x-apple-data-d
 etectors://5" x-apple-data-detectors="true" x-apple-data-detectors-type="ca
 lendar-event" x-apple-data-detectors-result="5">Samstag 21/11/2020</a></p><
 p>Uhrzeit:&nbsp;<a dir="ltr" href="x-apple-data-detectors://6" x-apple-data
 -detectors="true" x-apple-data-detectors-type="calendar-event" x-apple-data
 -detectors-result="6">13:00 bis 17:00</a></p><p>Ort: Hotel Restaurant Napol
 eon,&nbsp;<a dir="ltr" href="x-apple-data-detectors://7/1" x-apple-data-det
 ectors="true" x-apple-data-detectors-type="address" x-apple-data-detectors-
 result="7/1">Hauptstrasse 210, 77866 Rheinau</a></p><p>&nbsp;</p><p>Verbind
 liche Anmeldung bei unserer 2. Vorsitzenden Frau Annette Klarmann</p><p>(<s
 pan id="cloak9a8a4f1874e81e8397c74989553ea986">Diese E-Mail-Adresse ist vor
  Spambots geschützt! Zur Anzeige muss JavaScript eingeschaltet sein!</span>
 <script type='text/javascript'>
				document.getElementById('cloak9a8a4f187
 4e81e8397c74989553ea986').innerHTML = '';
				var prefix = '&#109;a' + 'i&#
 108;' + '&#116;o';
				var path = 'hr' + 'ef' + '=';
				var addy9a8a4f1874
 e81e8397c74989553ea986 = '&#97;nn&#101;tt&#101;.kl&#97;rm&#97;nn' + '&#64;'
 ;
				addy9a8a4f1874e81e8397c74989553ea986 = addy9a8a4f1874e81e8397c7498955
 3ea986 + 't-&#111;nl&#105;n&#101;' + '&#46;' + 'd&#101;';
				var addy_text
 9a8a4f1874e81e8397c74989553ea986 = '&#97;nn&#101;tt&#101;.kl&#97;rm&#97;nn'
  + '&#64;' + 't-&#111;nl&#105;n&#101;' + '&#46;' + 'd&#101;';document.getEl
 ementById('cloak9a8a4f1874e81e8397c74989553ea986').innerHTML += '<a ' + pat
 h + '\'' + prefix + ':' + addy9a8a4f1874e81e8397c74989553ea986 + '\'>'+addy
 _text9a8a4f1874e81e8397c74989553ea986+'<\/a>';
		</script>)<span style="col
 or: #000000;">&nbsp;<a dir="ltr" style="color: #000000;" href="x-apple-data
 -detectors://9" x-apple-data-detectors="true" x-apple-data-detectors-type="
 calendar-event" x-apple-data-detectors-result="9">bis 10/11/2020</a>&nbsp;<
 /span>bzw. bei&nbsp; Erreichen der maximalen Teilnehmerzahl.</p><p>Nach Bes
 tätigung der Anmeldung zum Semiar durch Fr. Klarmann,&nbsp;bitte umgehende 
 Überweisung der&nbsp;Teilnahmegebühr von 25€&nbsp;auf das Konto der LG:</p>
 <p>Volksbank Worms-Wonnegau,&nbsp;</p><p>IBAN: DE80 5509 1200 0011 3735 00<
 /p><p>BIC: GENODE61AZY</p><p>Wie bei allen Veranstaltungen, gelten auch hie
 r die Corona Auflagen wie&nbsp;Abstand halten, Hygiene und Mund-Nasenschutz
  korrekt tragen&nbsp;(diesen muss jeder Teilnehmer selber mitbringen!).</p>
 <p>Wir sind optimistisch, dass wir diese Veranstaltung durchführen können&n
 bsp;und freuen uns auf viele interessierte Züchter!</p></div></div></div><d
 iv dir="ltr"><div><div><p>Die Vorstandschaft der LG Baden-Pfalz</p></div></
 div></div>
DTSTAMP:20260419T135719
DTSTART;TZID=Europe/Berlin:20201121T130000
DTEND;TZID=Europe/Berlin:20201121T170000
SEQUENCE:0
TRANSP:OPAQUE
END:VEVENT
END:VCALENDAR