BEGIN:VCALENDAR
VERSION:2.0
PRODID:-//jEvents 2.0 for Joomla//EN
CALSCALE:GREGORIAN
METHOD:PUBLISH
BEGIN:VTIMEZONE
TZID:Europe/Berlin
BEGIN:STANDARD
DTSTART:20231029T020000
RDATE:20240331T030000
TZOFFSETFROM:+0200
TZOFFSETTO:+0100
TZNAME:Europe/Berlin CET
END:STANDARD
BEGIN:STANDARD
DTSTART:20241027T020000
RDATE:20250330T030000
TZOFFSETFROM:+0200
TZOFFSETTO:+0100
TZNAME:Europe/Berlin CET
END:STANDARD
BEGIN:STANDARD
DTSTART:20251026T020000
RDATE:20260329T030000
TZOFFSETFROM:+0200
TZOFFSETTO:+0100
TZNAME:Europe/Berlin CET
END:STANDARD
BEGIN:STANDARD
DTSTART:20261025T020000
RDATE:20270328T030000
TZOFFSETFROM:+0200
TZOFFSETTO:+0100
TZNAME:Europe/Berlin CET
END:STANDARD
BEGIN:STANDARD
DTSTART:20271031T020000
RDATE:20280326T030000
TZOFFSETFROM:+0200
TZOFFSETTO:+0100
TZNAME:Europe/Berlin CET
END:STANDARD
BEGIN:STANDARD
DTSTART:20281029T020000
RDATE:20290325T030000
TZOFFSETFROM:+0200
TZOFFSETTO:+0100
TZNAME:Europe/Berlin CET
END:STANDARD
BEGIN:STANDARD
DTSTART:20291028T020000
RDATE:20300331T030000
TZOFFSETFROM:+0200
TZOFFSETTO:+0100
TZNAME:Europe/Berlin CET
END:STANDARD
BEGIN:STANDARD
DTSTART:20301027T020000
RDATE:20310330T030000
TZOFFSETFROM:+0200
TZOFFSETTO:+0100
TZNAME:Europe/Berlin CET
END:STANDARD
BEGIN:STANDARD
DTSTART:20311026T020000
RDATE:20320328T030000
TZOFFSETFROM:+0200
TZOFFSETTO:+0100
TZNAME:Europe/Berlin CET
END:STANDARD
BEGIN:DAYLIGHT
DTSTART:20230810T000000
RDATE:20231029T020000
TZOFFSETFROM:+0100
TZOFFSETTO:+0200
TZNAME:Europe/Berlin CEST
END:DAYLIGHT
BEGIN:DAYLIGHT
DTSTART:20240331T030000
RDATE:20241027T020000
TZOFFSETFROM:+0100
TZOFFSETTO:+0200
TZNAME:Europe/Berlin CEST
END:DAYLIGHT
BEGIN:DAYLIGHT
DTSTART:20250330T030000
RDATE:20251026T020000
TZOFFSETFROM:+0100
TZOFFSETTO:+0200
TZNAME:Europe/Berlin CEST
END:DAYLIGHT
BEGIN:DAYLIGHT
DTSTART:20260329T030000
RDATE:20261025T020000
TZOFFSETFROM:+0100
TZOFFSETTO:+0200
TZNAME:Europe/Berlin CEST
END:DAYLIGHT
BEGIN:DAYLIGHT
DTSTART:20270328T030000
RDATE:20271031T020000
TZOFFSETFROM:+0100
TZOFFSETTO:+0200
TZNAME:Europe/Berlin CEST
END:DAYLIGHT
BEGIN:DAYLIGHT
DTSTART:20280326T030000
RDATE:20281029T020000
TZOFFSETFROM:+0100
TZOFFSETTO:+0200
TZNAME:Europe/Berlin CEST
END:DAYLIGHT
BEGIN:DAYLIGHT
DTSTART:20290325T030000
RDATE:20291028T020000
TZOFFSETFROM:+0100
TZOFFSETTO:+0200
TZNAME:Europe/Berlin CEST
END:DAYLIGHT
BEGIN:DAYLIGHT
DTSTART:20300331T030000
RDATE:20301027T020000
TZOFFSETFROM:+0100
TZOFFSETTO:+0200
TZNAME:Europe/Berlin CEST
END:DAYLIGHT
BEGIN:DAYLIGHT
DTSTART:20310330T030000
RDATE:20311026T020000
TZOFFSETFROM:+0100
TZOFFSETTO:+0200
TZNAME:Europe/Berlin CEST
END:DAYLIGHT
END:VTIMEZONE
BEGIN:VEVENT
UID:89e230e85ee5d5a35acddd7e09dc732f
CATEGORIES:Hüteveranstaltung
CREATED:20200702T144937
SUMMARY:Hütetrail Rauschenberg vom CfBrH LG Hessen 
DESCRIPTION:<p>Hütetrail CfBrH der LG Hessen</p><div>Angeboten wird an beiden Tagen</di
 v><div>Collecting Style - NHAT, HWT, IHT 1, IHT 2<br />Traditional Style - 
 NHAT</div><div>&nbsp;</div><div><p>Der Anmeldung ist eine Kopie der Ahnenta
 fel (FCI) oder Registerbescheinigung (FCI) CfBrH und der Leistungsurkunde b
 eizufügen.<br /><br />Leistungsurkunden können bei der Leistungsbuchstelle 
 des CfBrH beantragt werden.<br /><span id="cloakc9e5d469e0d7e0968aef6aa953c
 b89b7">Diese E-Mail-Adresse ist vor Spambots geschützt! Zur Anzeige muss Ja
 vaScript eingeschaltet sein!</span><script type='text/javascript'>
				docu
 ment.getElementById('cloakc9e5d469e0d7e0968aef6aa953cb89b7').innerHTML = ''
 ;
				var prefix = '&#109;a' + 'i&#108;' + '&#116;o';
				var path = 'hr' +
  'ef' + '=';
				var addyc9e5d469e0d7e0968aef6aa953cb89b7 = 'l&#101;&#105;s
 t&#117;ngsb&#117;ch' + '&#64;';
				addyc9e5d469e0d7e0968aef6aa953cb89b7 = 
 addyc9e5d469e0d7e0968aef6aa953cb89b7 + 'cfbrh' + '&#46;' + 'd&#101;';
				v
 ar addy_textc9e5d469e0d7e0968aef6aa953cb89b7 = 'l&#101;&#105;st&#117;ngsb&#
 117;ch' + '&#64;' + 'cfbrh' + '&#46;' + 'd&#101;';document.getElementById('
 cloakc9e5d469e0d7e0968aef6aa953cb89b7').innerHTML += '<a ' + path + '\'' + 
 prefix + ':' + addyc9e5d469e0d7e0968aef6aa953cb89b7 + '\'>'+addy_textc9e5d4
 69e0d7e0968aef6aa953cb89b7+'<\/a>';
		</script></p></div>
DTSTAMP:20260420T173524
DTSTART;TZID=Europe/Berlin;VALUE=DATE:20240810
DTEND;TZID=Europe/Berlin;VALUE=DATE:20240812
SEQUENCE:0
TRANSP:OPAQUE
END:VEVENT
END:VCALENDAR